Workbook
Name INNOVACIÓN_INTERNACIONAL: rangos!$B$27:$B$29
Name PROMOCIÓN_INTERNACIONAL: rangos!$B$19:$B$25
Name sector2: '[1]gastos subvencionbles'!$A$120:$A$125
Name SOSTENIBILIDAD_INTERNACIONAL: rangos!$B$30:$B$32
Name TD_1: TD!$B$5:$B$13
Name TRANSFORMACIÓN_DIGITAL_INTERNACIONAL: rangos!$B$12:$B$18

Sheet Instrucciones
A2: INSTRUCCIONES
A3: 1 | B3: Lea atentamente la convocatoria.
A4: 2 | B4: Identifique la línea de subvención que le corresponde. Si tiene dudas, le ayudamos a continuación:
B6: ¿su sector de actividad es moda?*
B7: En el periodo 2021-2025 ¿Cuántos años ha exportado?*
B8: se deberá acreditar con el Modelo 390 o 303 del IVA, según correponda al tipo de empresa, de los años que declare haber exportado
B10: SU LINEA DE SUBVENCIÓN ES LA | G10: =VLOOKUP(H10,Instrucciones!$C$50:$E$53,3,0) -> #N/A | H10: =CONCATENATE(F42,F43,F44) -> #N/A
A12: 3 | B12: Consulte las actuaciones y lo gastos subvencionables. Respecte los límites establecidos para cada gasto
E13: Plan de actuaciones | G13: % ayuda | H13: Ayuda máxima
B14: INICIACIÓN: LÍNEAS 1 Y 2 | E14: 2.500€ a 5.000€ | G14: 1 | H14: 5000
B15: CONSOLIDACIÓN: LÍNEAS 3 Y 4 | E15: 4.000€ a 8.000€ | G15: 1 | H15: 8000
B17: si el presupuesto total sobre el que solicita ayuda es mayor o menor al establecido en la convocatoria, aparecerá un mensaje de error. Es este caso debe modificar el plan para que cumpla dichos límites
A18: 4 | B18: Rellene un ficha por cada actuación sobre la que solice ayuda.
C19: - solo se rellenan los campos en blanco
C20: - los campos marcados con una *, contienen listas desplegables
C21: - describa la actuación lo más detalladamente posible
C22: - describa los resultados que espera conseguir
C23: - en el presupuesto, identifique cada concepto de gasto
C24: - en el caso de consultoría, deberá adjuntar el presupuesto con la solicitud.
A26: 5 | B26: ATENCIÓN:
B27: El periodo de ejecución es desde el 1 de junio de 2026 hasta el 31 de mayo de 2027.
B28: Solo en el caso de acciones de promoción, como son ferias, se podrán admitir gastos pagados hasta 9 meses antes del 1 de junio de 2026.
B29: Recuerde que NO se admiten pagos en efectivo.
B30: Todas las actuaciones deben tener prueba documental.
C39: Sí
C40: No
B42: nunca | C42: Iniciación | F42: =VLOOKUP($G$7,B41:C47,2,0) -> #N/A
B43: 1 | C43: Iniciación
B44: 2 | C44: Iniciación | F44: =IF(G6="NO",""," -MODA") -> -MODA
B45: 3 | C45: Consolidación
B46: 4 | C46: Consolidación
B47: 5 | C47: Consolidación
C50: Iniciación | E50: Línea 1
C51: Iniciación -moda | E51: Línea 2
C52: Consolidación | E52: Línea 3
C53: Consolidación -moda | E53: Línea 4

Sheet Fichas de actuaciones
A1: PLAN DE ACTUACIONES
A2: ATENCIÓN: Rellene las celdas de color blanco. Las marcadas con * tienen lista desplegable
A4: DATOS DE LA EMPRESA
A5: RAZÓN SOCIAL
A6: CIF | C6: Nº DE EXPEDIENTE
A7: PERSONA DE CONTACTO | D7: TELÉFONO
A8: EMAIL | D8: SECTOR*
A10: Identifique la línea de subvención que le corresponde, contestando las siguientes dos preguntas:
A11: ¿Su sector de actividad es moda?*
A12: En el periodo 2021-2025 ¿Cuántos años ha exportado?*
A13: SU LINEA DE SUBVENCIÓN ES LA | D13: =VLOOKUP(E13,$B$234:$C$237,2,0) -> #N/A | E13: =CONCATENATE(C226,C227,C228) -> #N/A
A14: Importe mínimo del plan | D14: =VLOOKUP($E$13,$B$234:$E$237,3,0) -> #N/A
A15: Importe máximo del plan | D15: =VLOOKUP($E$13,$B$234:$E$237,4,0) -> #N/A
A17: TOTAL PRESUPUESTO SOBRE EL QUE SOLICITA AYUDA | D17: =+'resumen plan'!F24 -> 0 | E17: =IF(D17>D15,"ERROR presupuesto máximo superado. Revise su plan y ajústelo al importe máximo de su línea","") -> #N/A
E19: =IF(D17<D14,"error, el presupuesto total es menor al permitido. Consulte los límites de su línea","") -> #N/A
A20: ACTUACIÓN 1
A21: ÁREA DE ACTUACIÓN*
A22: TIPO DE ACTUACIÓN*
A23: Líneas iniciación | B23: Líneas consolidación | C23: Gastos subvencionables | D23: Límites de gasto | E23: Condiciones
A24: =VLOOKUP($B22,TD!$B$4:$G$30,2,0) -> #N/A | B24: =VLOOKUP($B22,TD!$B$4:$G$30,3,0) -> #N/A | C24: =VLOOKUP($B22,TD!$B$4:$G$30,4,0) -> #N/A | D24: =VLOOKUP($B22,TD!$B$4:$G$30,5,0) -> #N/A | E24: =VLOOKUP($B22,TD!$B$4:$G$30,6,0) -> #N/A
A25: Mercados objetivos | G25: Comentarios revisión técnicos:
A26: Fecha de ejecución prevista | D26: Periodo de ejecución: del 1-06-2026 a 31-05-2027
A27: Nombre de la actuación
A28: Descripción detallada de la actuación
A29: Resultados que espera conseguir
A30: PRESUPUESTO
A31: Concepto de gasto | D31: Importe sin IVA | E31: Proveedor. En todos los gastos de consultores deberá adjuntar el presupuesto junto con la solicitud | G31: Importe aprobado | H31: Motivo
G32: =IF(F32="no",0,D32) -> 0
G33: =IF(F33="no",0,D33) -> 0
G34: =IF(F34="no",0,D34) -> 0
G35: =IF(F35="no",0,D35) -> 0
G36: =IF(F36="no",0,D36) -> 0
G37: =IF(F37="no",0,D37) -> 0
G38: =IF(F38="no",0,D38) -> 0
A39: TOTAL PRESUPUESTO DE LA ACCIÓN IVA EXCLUIDO | D39: =SUM(D32:D38) -> 0 | G39: =SUM(G32:G38) -> 0
A42: ACTUACIÓN 2
A43: ÁREA DE ACTUACIÓN*
A44: TIPO DE ACTUACIÓN*
A45: Líneas iniciación | B45: Líneas consolidación | C45: Gastos subvencionables | D45: Límites de gasto | E45: Condiciones
A46: =VLOOKUP($B44,TD!$B$4:$G$30,2,0) -> #N/A | B46: =VLOOKUP($B44,TD!$B$4:$G$30,3,0) -> #N/A | C46: =VLOOKUP($B44,TD!$B$4:$G$30,4,0) -> #N/A | D46: =VLOOKUP($B44,TD!$B$4:$G$30,5,0) -> #N/A | E46: =VLOOKUP($B44,TD!$B$4:$G$30,6,0) -> #N/A
...

Sheet resumen plan
A2: SUBVENCIONES PARA EL DESARROLLO DE PLANES INDIVIDUALES DE INTERNACIONALIZACIÓN
B4: RAZÓN SOCIAL | C4: =+'Fichas de actuaciones'!B5 -> 0
B5: CIF | C5: =+'Fichas de actuaciones'!B6 -> 0
B6: Nº DE EXPEDIENTE | C6: =+'Fichas de actuaciones'!D6 -> 0
B7: PERSONA DE CONTACTO | C7: =+'Fichas de actuaciones'!B7 -> 0
B8: TELÉFONO | C8: =+'Fichas de actuaciones'!E7 -> 0
B9: EMAIL | C9: =+'Fichas de actuaciones'!B8 -> 0
B10: SECTOR | C10: =+'Fichas de actuaciones'!E8 -> 0
B11: LINEA DE SUBVENCIÓN | C11: =+'Fichas de actuaciones'!E13 -> #N/A
A13: Resumen de las actuaciones sobre las que solicita ayuda
A15: Nº | B15: Área de actuación | C15: Tipo de actuación | D15: Nombre de la actuación | E15: Mercados Objetivos | F15: Importe solicitado | G15: Importe aprobado | H15: Comentarios
A16: 1 | B16: =+'Fichas de actuaciones'!B21 -> 0 | C16: =+'Fichas de actuaciones'!B22 -> 0 | D16: =+'Fichas de actuaciones'!B27 -> 0 | E16: =+'Fichas de actuaciones'!B25 -> 0 | F16: =+'Fichas de actuaciones'!$D$39 -> 0 | G16: =+'Fichas de actuaciones'!G39 -> 0
A17: 2 | B17: =+'Fichas de actuaciones'!$B43 -> 0 | C17: =+'Fichas de actuaciones'!$B44 -> 0 | D17: =+'Fichas de actuaciones'!B49 -> 0 | E17: =+'Fichas de actuaciones'!B47 -> 0 | F17: =+'Fichas de actuaciones'!$D$61 -> 0 | G17: =+'Fichas de actuaciones'!G61 -> 0
A18: 3 | B18: =+'Fichas de actuaciones'!$B65 -> 0 | C18: =+'Fichas de actuaciones'!$B66 -> 0 | D18: =+'Fichas de actuaciones'!B71 -> 0 | E18: =+'Fichas de actuaciones'!B69 -> 0 | F18: =+'Fichas de actuaciones'!$D$83 -> 0 | G18: =+'Fichas de actuaciones'!G83 -> 0
A19: 4 | B19: =+'Fichas de actuaciones'!$B87 -> 0 | C19: =+'Fichas de actuaciones'!$B88 -> 0 | D19: =+'Fichas de actuaciones'!B93 -> 0 | E19: =+'Fichas de actuaciones'!B91 -> 0 | F19: =+'Fichas de actuaciones'!$D$105 -> 0 | G19: =+'Fichas de actuaciones'!G105 -> 0
A20: 5 | B20: =+'Fichas de actuaciones'!$B109 -> 0 | C20: =+'Fichas de actuaciones'!$B110 -> 0 | D20: =+'Fichas de actuaciones'!B115 -> 0 | E20: =+'Fichas de actuaciones'!B113 -> 0 | F20: =+'Fichas de actuaciones'!$D$127 -> 0 | G20: =+'Fichas de actuaciones'!G127 -> 0
A21: 6 | B21: =+'Fichas de actuaciones'!$B131 -> 0 | C21: =+'Fichas de actuaciones'!$B132 -> 0 | D21: =+'Fichas de actuaciones'!B137 -> 0 | E21: =+'Fichas de actuaciones'!B135 -> 0 | F21: =+'Fichas de actuaciones'!$D$149 -> 0 | G21: =+'Fichas de actuaciones'!G149 -> 0
A22: 7 | B22: =+'Fichas de actuaciones'!$B153 -> 0 | C22: =+'Fichas de actuaciones'!$B154 -> 0 | D22: =+'Fichas de actuaciones'!B159 -> 0 | E22: =+'Fichas de actuaciones'!B157 -> 0 | F22: =+'Fichas de actuaciones'!$D$171 -> 0 | G22: =+'Fichas de actuaciones'!G171 -> 0
A23: 8 | B23: =+'Fichas de actuaciones'!$B175 -> 0 | C23: =+'Fichas de actuaciones'!$B176 -> 0 | D23: =+'Fichas de actuaciones'!B181 -> 0 | E23: =+'Fichas de actuaciones'!B179 -> 0 | F23: =+'Fichas de actuaciones'!$D$193 -> 0 | G23: =+'Fichas de actuaciones'!G193 -> 0
E24: TOTAL | F24: =SUM(F16:F23) -> 0 | G24: =SUM(G16:G23) -> 0
B25: =+'Fichas de actuaciones'!E19 -> #N/A | D25: =+'Fichas de actuaciones'!E17 -> #N/A
B27: Peridodo de ejecución: | E27: Presupuesto aprobado | G27: =+G24 -> 0
B28: 1 de junio de 2026 a 31 de mayo de 2027 | E28: % Ayuda | G28: 1
B29: Fin de plazo de justificación:
B30: 30 de junio de 2027 | E30: IMPORTE DE AYUDA CONCEDIDO | G30: =+G28*G24 -> 0
B32: En Toledo, a
B36: Fdo. Responsable Administrativo-Financiero | E36: Fdo. Responsable departamento de promoción
E37: =+C10 -> 0

Sheet rangos
B4: PROMOCIÓN_INTERNACIONAL
B5: INNOVACIÓN_INTERNACIONAL
B6: SOSTENIBILIDAD_INTERNACIONAL
B19: Acciones de promoción internacionales tales como ferias, exposiciones, promociones en punto de venta, degustaciones, demostraciones, desfiles, presentaciones en showrooms, jornadas técnicas, congresos, seminarios profesionales y similares | C19: P1
B20: Agendas comerciales para mercados exteriores | C20: P2
B21: Acciones de promoción internacional realizadas a través de plataformas virtuales | C21: P3
B22: Campañas promocionales y publicitarias en prensa, revistas, u otros medios en soporte físico, en mercados fuera de España | C22: P4
B23: Material promocional enfocado a mercados exteriores: elaboración, diseño, adaptación y edición de material promocional en soporte físico (catálogos, folletos, y carteles). | C23: P5
B24: Participación en licitaciones internacionales, convocadas oficialmente por organismos multilaterales o bilaterales o instituciones públicas extranjeras | C24: P6
B25: Viajes comerciales, de prospección y estudio y para visitar ferias y eventos | C25: P7
B27: Registro de patentes y modelos de utilidad ante entes internacionales oficiales | C27: IN1
B28: Homologaciones y certificaciones ante organismos extranjeros, así como nacionales que permiten la comercialización en el exterior | C28: IN2
B29: Registro de marcas ante organismos extranjeros, así como nacionales de carácter internacional | C29: IN3
B30: Certificaciones con estándares internacionales en materia de Medio Ambiente y sostenibilidad | C30: SI1
B31: Evaluación de riesgos ambientales y sociales (Due Dilligence) en proyectos en el exterior. | C31: SI2
B32: Certificaciones en Responsabilidad Social Corporativa y Compliance bajo estándares internacionales | C32: SI3
B35: Acciones de promoción internacionales tales como ferias, exposiciones, promociones en punto de venta, degustaciones, demostraciones, desfiles, presentaciones en showrooms, jornadas técnicas, congresos, seminarios profesionales y similares
B36: Agendas comerciales para mercados exteriores
B37: Suscripciones a bases de datos de contactos internacionales
B38: Campañas promocionales y publicitarias en prensa, revistas, u otros medios en soporte físico, en mercados fuera de España
B39: Material promocional enfocado a mercados exteriores: elaboración, diseño, adaptación y edición de material promocional en soporte físico (catálogos, folletos, y carteles).
B40: Participación en licitaciones internacionales, convocadas oficialmente por organismos multilaterales o bilaterales o instituciones públicas extranjeras
B41: Viajes comerciales, de prospección y estudio y para visitar ferias y eventos
B45: Línea 1: Iniciación a la exportación: para empresas de todos los sectores, excepto moda. | C45: Mínimo 2.500€, máximo 5.000€
B46: Línea 2: Iniciación a la exportación sector moda: para empresas del sector moda. | C46: Mínimo 2.500€, máximo 5.000€
B47: Línea 3: Consolidación de la exportación: para empresas de todos los sectores, excepto moda. | C47: Mínimo 4.000€, máximo 8.000€
B48: Línea 4: Consolidación de la exportación sector moda: para empresas del sector moda. | C48: Mínimo 4.000€, máximo 8.000€
B52: MOTIVOS NO ADMISIÓN DE UN GASTO TOTAL O PARCIAL
B53: Acción no subvencionable
B54: Gasto no subvencionable
B55: Límite de gasto superado
B56: Fuera del periodo de ejecución

Sheet TD
B4: Acciones de promoción internacionales tales como ferias, exposiciones, promociones en punto de venta, degustaciones, demostraciones, desfiles, presentaciones en showrooms, jornadas técnicas, congresos, seminarios profesionales y similares | C4: sí | D4: sí | E4: 1. Gastos de alquiler del espacio expositivo o coste de participación. 2. Gastos de alquiler de mobiliario, equipos audiovisuales y equipos de refrigeración 3. Transporte de muestras 4. Viaje de una persona | F4: 8.000€ 2.000€ 1.500€ ver límiente en apartado de viajes | G4: No son subvencionables: el diseño, construcción, montaje y decoración del stand, material de merchandising, material publicitario, catálogos y similares. Podrán admitirse facturas y pagos de gastos previos a la fecha de solicitud realizados como máximo dentro de los 9 meses anteriores, siempre que estén referidos a una actuación que tenga lugar en el periodo de ejecución
B8: Agendas comerciales para mercados exteriores | C8: sí | D8: sí | E8: 1. Gastos de consultoría especializada en el país de destino 2. Viaje de una persona | F8: 1. Límite consultoría 1.800 euros 2. Ver límites en apartado de viajes | G8: Se admitirán un máximo de 3 agendas comerciales. Solo se admitirán gastos de consultores con probada solvencia técnica en el país de destino
B11: Acciones de promoción internacional realizadas a través de plataformas virtuales | C11: sí | D11: sí | E11: Coste de participación | F11: 4000
B12: Campañas promocionales y publicitarias en prensa, revistas, u otros medios en soporte físico, en mercados fuera de España | C12: sí | D12: sí | E12: Gastos de inserción en los medios de comunicación fuera de España | F12: 3000 | G12: Solo se admite el gasto directo del medio donde se realiza la inserción. No se admite el coste de la agencia de comunicación o intermediarios
B13: Material promocional enfocado a mercados exteriores: elaboración, diseño, adaptación y edición de material promocional en soporte físico (catálogos, folletos, y carteles). | C13: sí | D13: sí | E13: Gastos externos de diseño, producción, traducciones, fotografías, e impresión. | F13: Diseño y producción: 2.300 € Impresión: 700 € | G13: El material debe versar sobre la empresa solicitante y los productos/servicios que desarrolla en Castilla-La Mancha. Los catálogos deben estar traducidos al menos a inglés. No son subvencionables: productos de merchandising, papelería, manuales de uso, listas de precios, envases, etiquetas, cualquier elemento que forme parte del producto o servicio, ni el diseño de imagen corporativa.
B14: Participación en licitaciones internacionales, convocadas oficialmente por organismos multilaterales o bilaterales o instituciones públicas extranjeras | C14: no | D14: sí | E14: Gastos de consultoría para la búsqueda, preparación y presentación de ofertas en organismos multilaterales, gastos externos de compra de pliegos, traducciones de pliegos y ofertas del español al idioma de presentación de la licitación. | F14: 5000 | G14: Solo se admitirán gastos de consultores con probada solvencia técnica
B15: Viajes comerciales, de prospección y estudio y para visitar ferias y eventos | C15: sí | D15: sí | E15: Gastos de viaje de una persona: - gastos de desplazamiento (billete de avión/tren/barco ida y vuelta al país de destino, en clase turista y los desplazamientos internos) - alojamiento (coste de habitación de hotel en régimen AD) y tasas obligatorias del país). | F15: Europa: 1.200 € África: 1.800 € América: 2.200 € Asia: 2.200 € Oceanía: 2.400 € El límite para todos los viajes : Líneas 1 y 2: 4.000 € Líneas 3 y 4: 6.000 € | G15: El viaje ida y vuelta se entenderá con origen y destino España, de forma justificada se podrá realizar el desplazamiento ida y vuelta desde otro país. Serán subvencionables los gastos de viaje entre dos ciudades del país de destino siempre que se realicen en transporte comercial (tren/avión). No serán subvencionables: gasolina, kilometraje, peajes ni gastos de viaje realizados dentro de España.
B19: Registro de patentes y modelos de utilidad ante entes internacionales oficiales | C19: sí | D19: sí | E19: Gastos de asesorías externas directamente ligadas al proceso de tramitación de las mismas, costes de traducción e intérpretes. | F19: 3000 | G19: No serán subvencionables los gastos derivados de renovaciones, servicios de vigilancia y tasas oficiales
B20: Homologaciones y certificaciones ante organismos extranjeros, así como nacionales que permiten la comercialización en el exterior | C20: sí | D20: sí | E20: Gastos derivados del primer registro o inscripción de homologaciones y certificaciones ante organismos en el exterior, así como organismos nacionales que faciliten la comercialización en el exterior, a excepción de las tasas. | F20: 5000 | G20: No serán subvencionables los gastos derivados de renovaciones, servicios de vigilancia y tasas oficiales
B21: Registro de marcas ante organismos extranjeros, así como nacionales de carácter internacional | C21: sí | D21: sí | E21: Gastos de los servicios relacionados con el proceso del primer registro o inscripción, a excepción de tasas. | F21: 2500 | G21: No serán subvencionables los gastos derivados de renovaciones, servicios de vigilancia y tasas oficiales
B22: Certificaciones con estándares internacionales en materia de Medio Ambiente y sostenibilidad | C22: sí | D22: sí | E22: Gastos de consultoría para la implantación y gastos de auditoría y certificación | F22: Consultoría: 1.000€ Certificación: 1.500€ | G22: Solo se admitirán gastos de consultores con probada solvencia técnica. Solo se admiten los gastos derivados de la primera certificación, no las sucesivas renovaciones o validaciones. Para que la consultoría sea subvencionable se debe obtener la certificación dentro del periodo de ejecución.
B24: Evaluación de riesgos ambientales y sociales (Due Dilligence) en proyectos en el exterior. | C24: no | D24: sí | E24: Gastos de consultoría para la implantación y gastos de auditoría y certificación. | F24: Consultoría: 1.000€ Certificación: 1.500€ | G24: Solo se admitirán gastos de consultores con probada solvencia técnica. Solo se admiten los gastos derivados de la primera certificación, no las sucesivas renovaciones o validaciones. Para que la consultoría sea subvencionable se debe obtener la certificación dentro del periodo de ejecución.
B27: Certificaciones en Responsabilidad Social Corporativa y Compliance bajo estándares internacionales | C27: no | D27: sí | E27: Gastos de consultoría para la implantación y gastos de auditoría y certificación | F27: Consultoría: 1.000€ Certificación: 1.500€ | G27: Solo se admitirán gastos de consultores con probada solvencia técnica. Solo se admiten los gastos derivados de la primera certificación, no las sucesivas renovaciones o validaciones. Para que la consultoría sea subvencionable se debe obtener la certificación dentro del periodo de ejecución.

Sheet Promoción
B1: ACTUACIONES DE PROMOCIÓN INTERNACIONAL
B2: Actuación | C2: Líneas | D2: Líneas | E2: Gastos subvencionables | F2: Límite de gasto | G2: Otras condiciones
C3: 1 y 2 | D3: 3 y 4
B4: Acciones de promoción internacionales presenciales, tales como ferias, exposiciones, promociones en punto de venta, degustaciones, demostraciones, desfiles, presentaciones en showrooms, jornadas técnicas, congresos, seminarios profesionales y similares | C4: sí | D4: sí | E4: - Gastos de alquiler del espacio expositivo o coste de participación - Gastos de alquiler de mobiliario, equipos audiovisuales y equipos de refrigeración - Transporte de muestras - Viaje de una persona | F4: 8.000€ 2.000€ 1.500€ ver límite en apartado de viajes | G4: No son subvencionables: el diseño, construcción, montaje y decoración del stand, material de merchandising, material publicitario, catálogos y similares. Podrán admitirse facturas y pagos correspondientes a gastos previos a la fecha de solicitud realizados como máximo dentro de los nueve meses anteriores, siempre que se pueda demostrar que están referidos a una actuación que tenga lugar en el periodo de ejecución
B5: Acciones de promoción internacional realizadas a través de plataformas virtuales | C5: sí | D5: sí | E5: Coste de participación | F5: 4000
B6: Agendas comerciales para mercados exteriores | C6: sí | D6: sí | E6: - Gastos de consultoría especializada en el país de destino - Viaje de una persona | F6: Consultoría: 1.800€ ver límite en apartado de viajes | G6: Se admitirán un máximo de 3 agendas comerciales. Solo se admitirán gastos de consultores con probada solvencia técnica en el país de destino
B7: Campañas promocionales y publicitarias en prensa, revistas, u otros medios en soporte físico, en mercados fuera de España | C7: sí | D7: sí | E7: Gastos de inserción en los medios de comunicación fuera de España. | F7: 3000 | G7: Solo se admite el gasto directo del medio donde se realiza la inserción. No se admite el coste de la agencia de comunicación o intermediarios
B8: Material promocional enfocado a mercados exteriores: elaboración, diseño, adaptación y edición de material promocional en soporte físico (catálogos, folletos, y carteles). | C8: sí | D8: sí | E8: Gastos externos de diseño, producción, traducciones, fotografías, e impresión. | F8: Diseño y producción: 2.300 € Impresión: 700 € | G8: El material promocional debe versar exclusivamente sobre la empresa solicitante y los productos/servicios que ésta desarrolla en Castilla-La Mancha y que son el objeto del proyecto de promoción internacional. Los catálogos deben estar traducidos al menos a inglés. No serán subvencionables: productos de merchandising papelería, manuales de uso, listas de precios, envases, etiquetas y en general cualquier elemento que forme parte del producto o servicio, así como el diseño de imagen corporativa.
B9: Participación en licitaciones internacionales, convocadas oficialmente por organismos multilaterales o bilaterales o instituciones públicas extranjeras | C9: no | D9: sí | E9: Gastos de consultoría para la búsqueda, preparación y presentación de ofertas en organismos multilaterales, gastos externos de compra de pliegos, traducciones de pliegos y ofertas del español al idioma de presentación de la licitación. | F9: 5000 | G9: Solo se admitirán gastos de consultores con probada solvencia técnica
B10: Viajes comerciales, de prospección y estudio y para visitar ferias y eventos | C10: sí | D10: sí | E10: Gastos de viaje de una persona que incluirá: - los gastos de desplazamiento (billete de avión/tren/barco ida y vuelta al país de destino, en clase turista y los desplazamientos internos entre dos ciudades del país de destino) - el alojamiento (coste de habitación de hotel en régimen de alojamiento y desayuno y tasas obligatorias del país). | F10: Europa: 1.200 € África: 1.800 € América: 2.200 € Asia: 2.200 € Oceanía: 2.400 € El límite para todos los viajes recogidos en el plan propuesto será: Líneas 1 y 2: 4.000 € Líneas 3 y 4: 6.000 € | G10: El viaje ida y vuelta se entenderá con origen y destino España, aunque de forma justificada se podrá realizar el desplazamiento ida y vuelta desde otro país siempre que el coste no sobrepase al que correspondería a un desplazamiento con origen y destino España. Serán subvencionables los gastos de viaje entre dos ciudades del país de destino siempre que se realicen en transporte comercial (tren/avión). No serán subvencionables: gastos de gasolina, kilometraje y peajes ni los gastos de viaje realizados dentro de España.

Sheet Innovación
B2: ACTUACIONES DE INNOVACIÓN INTERNACIONAL
B3: Actuación | C3: Líneas | D3: Líneas | E3: Gastos subvencionables | F3: Límite de gasto | G3: Otros condiciones
C4: 1 y 2 | D4: 3 y 4
B5: Registro de patentes y modelos de utilidad ante entes internacionales oficiales | C5: sí | D5: sí | E5: Gastos de asesorías externas directamente ligadas al proceso de tramitación de las mismas, costes de traducción e intérpretes. | F5: 3000 | G5: No serán subvencionables los gastos derivados de renovaciones, servicios de vigilancia y tasas oficiales
B6: Homologaciones y certificaciones ante organismos extranjeros, así como nacionales que permiten la comercialización en el exterior | C6: sí | D6: sí | E6: Gastos derivados del primer registro o inscripción de homologaciones y certificaciones ante organismos en el exterior, así como organismos nacionales que faciliten la comercialización en el exterior, a excepción de las tasas. | F6: 5000 | G6: No serán subvencionables los gastos derivados de renovaciones, servicios de vigilancia y tasas oficiales
B7: Registro de marcas ante organismos extranjeros, así como nacionales de carácter internacional | C7: sí | D7: sí | E7: Gastos de los servicios relacionados con el proceso del primer registro o inscripción, a excepción de tasas. | F7: 2500 | G7: No serán subvencionables los gastos derivados de renovaciones, servicios de vigilancia y tasas oficiales

Sheet Sostenibilidad
B1: ACTUACIONES DE SOSTENIBILIDAD INTERNACIONAL
B2: Actuación | C2: Líneas | D2: Líneas | E2: Gastos subvencionables | F2: Límite de gasto | G2: Otros condiciones
C3: 1 y 2 | D3: 3 y 4
B4: Certificaciones con estándares internacionales en materia de Medio Ambiente y sostenibilidad: huellas de carbono, sistema de gestión ambiental, Ecoetiquetas, agricultura ecológica, declaraciones ambientales de productos, Wineries for Climate Protection (WfCP), evaluación del impacto ambiental, análisis de riesgos ambientales, ISO 14001. | C4: sí | D4: sí | E4: Gastos de consultoría para la implantación y gastos de auditoría y certificación. | F4: Consultoría: 1.000 Certificación: 1.500 | G4: Solo se admitirán gastos de consultores con probada solvencia técnica. Solo se admiten los gastos derivados de la primera certificación, no las sucesivas renovaciones o validaciones. Para que la consultoría sea subvencionable se debe obtener la certificación dentro del periodo de ejecución.
B5: Evaluación de riesgos ambientales y sociales (Due Dilligence) en proyectos en el exterior. | C5: no | D5: sí | E5: Gastos de consultoría para la implantación y gastos de auditoría y certificación. | F5: Consultoría: 1.000 Certificación: 1.500 | G5: Solo se admitirán gastos de consultores con probada solvencia técnica. Solo se admiten los gastos derivados de la primera certificación, no las sucesivas renovaciones o validaciones. Para que la consultoría sea subvencionable se debe obtener la certificación dentro del periodo de ejecución.
B6: Certificaciones en Responsabilidad Social Corporativa y Compliance bajo estándares internacionales: SA 8000, ISO 26000, IQNET SR10, Planes de Igualdad, SGE21, Estándares IFC, Memorias de Sostenibilidad GRI, Informes No Financieros, Pacto Mundial, ODS Objetivos de Desarrollo Sostenible, SMETA (SEDEX), BSCI (AMFORI), ISO 19600, ISO 19601 Compliance Penal, ISO 37001 Antisoborno, Prevención de Blanqueo de Capitales y similares. | C6: no | D6: sí | E6: Gastos de consultoría para la implantación y gastos de auditoría y certificación. | F6: Consultoría: 1.000 Certificación: 1.500 | G6: Solo se admitirán gastos de consultores con probada solvencia técnica. Solo se admiten los gastos derivados de la primera certificación, no las sucesivas renovaciones o validaciones. Para que la consultoría sea subvencionable se debe obtener la certificación dentro del periodo de ejecución.
