Workbook
Name Acción: ACCIONES!$D$2:$D$9
Name AFGANISTÁN: 'LISTADOS PAÍSES'!$B$242
Name ALBANIA: 'LISTADOS PAÍSES'!$B$243
Name ANDORRA: 'LISTADOS PAÍSES'!$B$244
Name ANGOLA: 'LISTADOS PAÍSES'!$B$245
Name ANTIGUA_BARBUDA: 'LISTADOS PAÍSES'!$B$432
Name ANTILLAS_HOLANDESAS: 'LISTADOS PAÍSES'!$B$246
Name ARABIA_SAUDÍ: 'LISTADOS PAÍSES'!$B$247
Name ARGELIA: 'LISTADOS PAÍSES'!$B$248
Name ARGENTINA: 'LISTADOS PAÍSES'!$B$249
Name ARMENIA: 'LISTADOS PAÍSES'!$B$250
Name ARUBA: 'LISTADOS PAÍSES'!$B$251
Name ASCENSIÓN: 'LISTADOS PAÍSES'!$B$252
Name AUSTRALIA: 'LISTADOS PAÍSES'!$B$253
Name AZERBAIYÁN: 'LISTADOS PAÍSES'!$B$254
Name BAHAMAS: 'LISTADOS PAÍSES'!$B$255
Name BAHREIN: 'LISTADOS PAÍSES'!$B$256
Name BANGLADESH: 'LISTADOS PAÍSES'!$B$257
Name BARBADOS: 'LISTADOS PAÍSES'!$B$258
Name BELIZE: 'LISTADOS PAÍSES'!$B$259
Name BENÍN: 'LISTADOS PAÍSES'!$B$260
Name BERMUDAS: 'LISTADOS PAÍSES'!$B$261
Name BHUTÁN: 'LISTADOS PAÍSES'!$B$262
Name BIELORRUSIA: 'LISTADOS PAÍSES'!$B$263
Name BOLIVIA: 'LISTADOS PAÍSES'!$B$264
Name BOSNIA: 'LISTADOS PAÍSES'!$B$265
Name BOTSWANA: 'LISTADOS PAÍSES'!$B$266
Name BRASIL: 'LISTADOS PAÍSES'!$B$190:$B$216
Name BRUNEI: 'LISTADOS PAÍSES'!$B$267
Name BURKINA_FASO: 'LISTADOS PAÍSES'!$B$268
Name BURUNDI: 'LISTADOS PAÍSES'!$B$269
Name CABO_VERDE: 'LISTADOS PAÍSES'!$B$270
Name CAIMÁN_ISLAS: 'LISTADOS PAÍSES'!$B$271
Name CAMBOYA: 'LISTADOS PAÍSES'!$B$272
Name CAMERÚN: 'LISTADOS PAÍSES'!$B$273
Name CAMPAÑAS_DE_INFORMACIÓN: ACCIONES!$B$11:$B$12
Name CANADÁ: 'LISTADOS PAÍSES'!$B$53:$B$65
Name CENTROAFRICANA_REPÚBLICA: 'LISTADOS PAÍSES'!$B$274
Name COLOMBIA: 'LISTADOS PAÍSES'!$B$277
Name CONGO_BRAZZAVILLE: 'LISTADOS PAÍSES'!$B$279
Name COOK_ISLAS: 'LISTADOS PAÍSES'!$B$280
Name COREA_DEL_NORTE: 'LISTADOS PAÍSES'!$B$281
Name corea_del_sur: 'LISTADOS PAÍSES'!$B$282
Name costa_de_marfil: 'LISTADOS PAÍSES'!$B$283
Name costa_rica: 'LISTADOS PAÍSES'!$B$284
Name CROACIA: 'LISTADOS PAÍSES'!#REF!
Name CUBA: 'LISTADOS PAÍSES'!$B$285
Name CHINA: 'LISTADOS PAÍSES'!$B$113:$B$146
Name DIEGO_GARCÍA: 'LISTADOS PAÍSES'!$B$286
Name DOMINICA: 'LISTADOS PAÍSES'!$B$287
Name DOMINICANA_REPÚBLICA: 'LISTADOS PAÍSES'!$B$288
Name ECUADOR: 'LISTADOS PAÍSES'!$B$289
Name EGIPTO: 'LISTADOS PAÍSES'!$B$290
Name EL_SALVADOR: 'LISTADOS PAÍSES'!$B$291
Name EMIRATOS_ÁRABES_UNIDOS: 'LISTADOS PAÍSES'!$B$292
Name ERITREA: 'LISTADOS PAÍSES'!$B$293
Name ESTADOS_UNIDOS: 'LISTADOS PAÍSES'!$B$2:$B$52
Name ESTUDIOS_DE_NUEVO_MERCADO: ACCIONES!$B$13
Name ETIOPÍA: 'LISTADOS PAÍSES'!$B$294
Name EVALUACIÓN_RESULTADOS: ACCIONES!$B$14

Sheet ACCIONES
A1: Acción | B1: Sub-acción | D1: Acción | F1: CONSUMIDOR | J1: X
A2: RELACIONES_PUBLICAS_PROMOCION_PUBLICIDAD | B2: MISIONES_COMERCIALES | D2: RELACIONES_PUBLICAS_PROMOCION_PUBLICIDAD | F2: IMPORTADORES
A3: RELACIONES_PUBLICAS_PROMOCION_PUBLICIDAD | B3: CAMPAÑAS_PUBLICIDAD | D3: PARTICIPACIÓN_MANIFESTACIONES_FERIAS_EXPOSICIONES | F3: ESCUELAS DE HOSTELERÍA Y RESTAURACIÓN
A4: RELACIONES_PUBLICAS_PROMOCION_PUBLICIDAD | B4: PROMOCIÓN_PUNTO_VENTA | D4: CAMPAÑAS_DE_INFORMACIÓN | F4: LÍDERES DE OPINIÓN-PERIODISTAS
A5: RELACIONES_PUBLICAS_PROMOCION_PUBLICIDAD | B5: PORTALES_WEB | D5: ESTUDIOS_DE_NUEVO_MERCADO | F5: LÍDERES DE OPINIÓN-EXPERTOS GASTRONÓMICOS
A6: RELACIONES_PUBLICAS_PROMOCION_PUBLICIDAD | B6: MISIONES_INVERSAS | D6: EVALUACIÓN_RESULTADOS | F6: DISTRIBUIDORES: Supermercados
A7: RELACIONES_PUBLICAS_PROMOCION_PUBLICIDAD | B7: OFICINAS_DE_INFORMACIÓN | D7: PREPARACIÓN_DE_EXPEDIENTES_TÉCNICOS | F7: DISTRIBUIDORES: Mayoristas
A8: RELACIONES_PUBLICAS_PROMOCION_PUBLICIDAD | B8: GABINETE_DE_PRENSA | D8: GASTOS_ADMINISTRATIVOS | F8: DISTRIBUIDORES: Minoristas especializados
A9: RELACIONES_PUBLICAS_PROMOCION_PUBLICIDAD | B9: PRESENTACIONES_DE_PRODUCTO | D9: GASTOS_DE_PERSONAL | F9: DISTRIBUIDORES: Restaurantes
A10: PARTICIPACIÓN_MANIFESTACIONES_FERIAS_EXPOSICIONES | B10: FERIAS_EXPOSICIONES
A11: CAMPAÑAS_DE_INFORMACIÓN | B11: ENCUENTROS_EMPRESARIALES
A12: CAMPAÑAS_DE_INFORMACIÓN | B12: JORNADAS,_SEMINARIOS_CATAS,_ETC.
A13: ESTUDIOS_DE_NUEVO_MERCADO | B13: ESTUDIOS_DE_NUEVO_MERCADO (1)
A14: EVALUACIÓN_RESULTADOS | B14: EVALUACIÓN_RESULTADOS (1)
A15: PREPARACIÓN_DE_EXPEDIENTES_TÉCNICOS | B15: PRUEBAS_ENOLÓGICAS
A16: PREPARACIÓN_DE_EXPEDIENTES_TÉCNICOS | B16: NORMAS_FITOSANITARIAS_E_HIGIÉNICAS.
A17: PREPARACIÓN_DE_EXPEDIENTES_TÉCNICOS | B17: REQUISITOS_TERCEROS_PAÍSES_RESPECTO_IMPORTACIÓN_SECTOR VINÍCOLA
A18: PREPARACIÓN_DE_EXPEDIENTES_TÉCNICOS | B18: PRUEBAS_LABORATORIO_EVALUACIONES
A19: GASTOS_ADMINISTRATIVOS | B19: GASTOS_ADMINISTRATIVOS (2)
A20: GASTOS_DE_PERSONAL | B20: GASTOS_DE_PERSONAL (3)

Sheet LISTADOS PAÍSES
A1: PAÍS | B1: ESTADOS | D1: PAÍS
A2: ESTADOS_UNIDOS | B2: Alabama | D2: AFGANISTÁN
A3: ESTADOS_UNIDOS | B3: Alaska | D3: ALBANIA
A4: ESTADOS_UNIDOS | B4: Arizona | D4: ANDORRA
A5: ESTADOS_UNIDOS | B5: Arkansas | D5: ANGOLA
A6: ESTADOS_UNIDOS | B6: California | D6: ANTILLAS_HOLANDESAS
A7: ESTADOS_UNIDOS | B7: Carolina del Norte | D7: ANTIGUA_BARBUDA
A8: ESTADOS_UNIDOS | B8: Carolina del Sur | D8: ARABIA_SAUDÍ
A9: ESTADOS_UNIDOS | B9: Colorado | D9: ARGELIA
A10: ESTADOS_UNIDOS | B10: Connecticut | D10: ARGENTINA
A11: ESTADOS_UNIDOS | B11: Dakota del Norte | D11: ARMENIA
A12: ESTADOS_UNIDOS | B12: Dakota del Sur | D12: ARUBA
... A201: BRASIL | B201: Mato Grosso del Sur | D201: ZIMBABWE
A202: BRASIL | B202: Minas Gerais
A203: BRASIL | B203: Pará
A204: BRASIL | B204: Paraíba
A205: BRASIL | B205: Paraná
A206: BRASIL | B206: Pernambuco
A207: BRASIL | B207: Piauí
A208: BRASIL | B208: Río de Janeiro
A209: BRASIL | B209: Río Grande del Norte
A210: BRASIL | B210: Río Grande del Sur
A211: BRASIL | B211: Rondônia
A212: BRASIL | B212: Roraima
A213: BRASIL | B213: Santa Catarina
... A433: REINO_UNIDO | B433: REINO_UNIDO

Sheet INSTRUCCIONES CUMPLIMENTACIÓN
A1: SE GRABARÁ LA PESTAÑA "DESGLOSE DE PRESUPUESTO" (antiguo Anexo II-B). La pestaña "PRESUPUESTO"(antiguo Anexo II-A) se autocumplimentará con la información de la pestaña: "DESGLOSE DE PRESUPUESTO" Se grabará el presupuesto desglosado de cada EVENTO presupuestado de cada sub-acción. Cada evento de promoción concreto, realizado en fechas concretas, debe considerarse como una sub-acción diferente. Un evento está definido por PAÍS-REGIÓN-SUB-ACCIÓN Y PÚBLICO/S OBJETIVO/S, al/ los que va dirigido el evento de la sub-acción, en una fecha concreta, en el que se promocionan unos tipos de vino. Un evento puede ir dirigido a varios públicos objetivos y promocionar varios tipos de vino. En cada fila se pondrá el importe que corresponda a cada concepto de gasto del evento (Ej.:hotel, desplazamiento, dietas, gastos específicos directamente relacionados con el desarrollo del evento, envío de muestras, etc) NO DEJAR FILAS EN BLANCO NI CAMBIAR FORMATOS AL FINALIZAR LA GRABACIÓN COMPROBAR QUE COINCIDEN LAS CIFRAS DE LAS HOJAS " PRESUPUESTO" Y "DESGLOSE PRESUPUESTO". Para ello, en ambas hojas, se ha incluido una verificación en la columna "W".
A2: CÓDIGO DEL EVENTO | B2: Cada evento se identificará con un código que será único para que tenga una clara identificación en la tramitación del expediente . El código constará de la letra A mayúscula seguida de un número que comenzará por el 1 y seguirá un orden correlativo la numeración, siguiendo el orden en el que se declaren los eventos, sin espacio entre ambos caracteres (ej: A1, A2, A3, y asi sucesivamente). El código del evento declarado en la solicitud se mantendrá durante toda la gestión del programa (modificaciones y pagos). En cada fila se indicará el concepto de gasto del evento concreto, asignando el código de evento que corresponda. Se pondrán tantas filas como tipos de gasto conformen un evento concreto: hotel, desplazamiento, dietas,etc.
A3: PAIS: | B3: Se seleccionará del desplegable
A4: REGIÓN: | B4: Se seleccionará del desplegable
A5: ACCIÓN y SUBACCIÓN: | B5: Se seleccionarán del desplegable conforme a la siguiente relación
B6: ACCIÓN | C6: SUB-ACCIÓN
B7: ACCIONES DE PROMOCIÓN, PUBLICIDAD O RELACIONES PÚBLICAS | C7: 1.1. MISIONES COMERCIALES
C8: 1.2. CAMPAÑAS DE PUBLICIDAD
C9: 1.3. PROMOCIÓN PUNTO VENTA
C10: 1.4. PORTALES WEB
C11: 1.5. MISIONES INVERSAS
C12: 1.6. OFICINAS DE INFORMACIÓN
C13: 1.7. GABINETE DE PRENSA
C14: 1.8. PRESENTACIONES DE PRODUCTO
B15: PARTICIPACIÓN EN ACTOS, FERIAS O EXPOSICIONES | C15: 2.1. FERIAS Y EXPOSICIONES
B16: CAMPAÑAS DE INFORMACIÓN | C16: 3.1. ENCUENTROS EMPRESARIALES
B17: CAMPAÑAS DE INFORMACIÓN | C17: 3.2. JORNADAS SEMINARIOS CATAS ETC.
B18: ESTUDIOS DE NUEVOS MERCADOS O DE MERCADOS EXISTENTES | C18: 4.1. ESTUDIOS E INFORMES DE MERCADO (1)
B19: ESTUDIOS PARA EVALUAR LOS RESULTADOS | C19: 5.1. EVALUACIÓN DE RESULTADOS (1)
B20: PREPARACIÓN DE EXPEDIENTES TÉCNICOS, INCLUIDAS PRUEBAS DE LABORATORIO Y EVALUACIONES | C20: 6.1. PREPARACIÓN DE EXPEDIENTES TÉCNICOS RELATIVOS A PRUEBAS ENOLÓGICAS.
C21: 6.2. PREPARACIÓN DE EXPEDIENTES RELATIVOS A NORMAS FITOSANITARIAS E HIGIÉNICAS.
C22: 6.3. PREPARACIÓN EXPEDIENTES TÉCNICOS SOBRE REQUISITOS DE TERCEROS PAÍSES.
C23: 6.4. PRUEBAS DE LABORATORIO Y EVALUACIONES.
B24: GASTOS ADMINISTRATIVOS | C24: GASTOS ADMINISTRATIVOS (2)
B25: GASTOS DE PERSONAL | C25: GASTOS DE PERSONAL (3)
B27: ACLARACIONES:
B28: (1) El presupuesto máximo subvencionable de las sub-acciones ESTUDIOS DE NUEVO MERCADO y EVALUACIÓN RESULTADOS, será de 1.000 €/PAÍS.
B29: (2) Se indicarán los gastos administrativos correspondientes a cada país región. El presupuesto máximo subvencionable de GASTOS ADMINISTRATIVOS será el 4% del total de los gastos subvencionables del programa ejecutado en cada región, incluidos los gastos de personal.
B30: (3) Se indicarán los gastos de personal correspondientes a cada país región. El presupuesto máximo subvencionable de GASTOS DE PERSONAL será el 20 % del total de las acciones en cada región
A32: PÚBLICO OBJETIVO: | B32: Se seleccionará del desplegable la X para marcar el/ los públicos objetivos al/los que irá dirigido el evento de la sub-acción.
B34: LEYENDA PÚBLICO OBJETIVO
B35: C | C35: CONSUMIDOR
B36: IMP | C36: IMPORTADORES
B37: EHR | C37: ESCUELAS DE HOSTELERÍA Y RESTAURACIÓN
B38: P | C38: PERIODISTAS
B39: EXG | C39: EXPERTOS GASTRONÓMICOS
B40: S | C40: DISTRIBUIDORES: Supermercados
B41: MY | C41: DISTRIBUIDORES: Mayoristas
B42: MI | C42: DISTRIBUIDORES: Minoristas especializados
B43: R | C43: DISTRIBUIDORES: Restaurantes
...

Sheet DESGLOSE PRESUPUESTO
A2: DESGLOSE DE PRESUPUESTO POR EVENTO DE CADA SUB-ACCIÓN
F3: PÚBLICO OBJETIVO | O3: TIPO DE VINO | R3: CONCEPTO DE GASTO | S3: PRESUPUESTO SOLICITADO (€) | T3: LUGAR (Ciudad) | U3: CALENDARIO PREVISTO
A4: CÓDIGO DEL EVENTO | B4: PAÍS | C4: REGIÓN | D4: ACCIÓN | E4: SUB-ACCIÓN | F4: C | G4: IMP | H4: EHR | I4: P | J4: EXG | K4: S | L4: MY | M4: MI | N4: R | O4: DOP | P4: IGP | Q4: VAR | U4: Fecha aproximada ( MM/AA) | W4: TOTAL PRESUPUESTO
W5: ='PRESUPUESTO '!R265 -> 0
W7: TOTAL DESGLOSE PRESUPUESTO
W8: =S504 -> 0
W10: =IF(W5=W8, "IMPORTE PRESUPUESTOS Y DESGLOSE COINCIDEN","COMPROBAR IMPORTES PRESUPUESTO Y DESGLOSE") -> IMPORTE PRESUPUESTOS Y DESGLOSE COINCIDEN
H504: PRESUPUESTO TOTAL DEL PROGRAMA | S504: =SUM(S5:S503) -> 0

Sheet PRESUPUESTO 
A2: PRESUPUESTO, CUADRO RECAPITULATIVO DEL PROGRAMA POR PAÍS DESTINATARIO, REGIÓN, ACCIÓN, SUB-ACCIÓN, PÚBLICO OBJETIVO Y TIPOS DE VINO QUE PROMOCIONARÁ
A3: CÓDIGO DEL EVENTO | B3: PAÍS | C3: REGIÓN | D3: ACCIÓN | E3: SUB-ACCIÓN | F3: PÚBLICO OBJETIVO | O3: TIPO DE VINO | R3: PRESUPUESTO SOLICITADO (€)
F4: C | G4: IMP | H4: EHR | I4: P | J4: EXG | K4: S | L4: MY | M4: MI | N4: R | O4: DOP | P4: IGP | Q4: VAR | W4: TOTAL PRESUPUESTO
A5: A1 | B5: =_xlfn.IFNA(VLOOKUP($A5,'DESGLOSE PRESUPUESTO'!$A$4:B$503,2,FALSE),"") | C5: =_xlfn.IFNA(VLOOKUP($A5,'DESGLOSE PRESUPUESTO'!$A$4:C$503,3,FALSE),"") | D5: =_xlfn.IFNA(VLOOKUP($A5,'DESGLOSE PRESUPUESTO'!$A$4:D$503,4,FALSE),"") | E5: =_xlfn.IFNA(VLOOKUP($A5,'DESGLOSE PRESUPUESTO'!$A$4:E$503,5,FALSE),"") | F5: =_xlfn.IFNA(IF(VLOOKUP($A5,'DESGLOSE PRESUPUESTO'!$A$4:$Q$503,6,FALSE)="X", "X", ""),"") | G5: =_xlfn.IFNA(IF(VLOOKUP($A5,'DESGLOSE PRESUPUESTO'!$A$4:$Q$503,7,FALSE)="X", "X", ""),"") | H5: =_xlfn.IFNA(IF(VLOOKUP($A5,'DESGLOSE PRESUPUESTO'!$A$4:$Q$503,8,FALSE)="X", "X", ""),"") | I5: =_xlfn.IFNA(IF(VLOOKUP($A5,'DESGLOSE PRESUPUESTO'!$A$4:$Q$503,9,FALSE)="X", "X", ""),"") | J5: =_xlfn.IFNA(IF(VLOOKUP($A5,'DESGLOSE PRESUPUESTO'!$A$4:$Q$503,10,FALSE)="X", "X", ""),"") | K5: =_xlfn.IFNA(IF(VLOOKUP($A5,'DESGLOSE PRESUPUESTO'!$A$4:$Q$503,11,FALSE)="X", "X", ""),"") | L5: =_xlfn.IFNA(IF(VLOOKUP($A5,'DESGLOSE PRESUPUESTO'!$A$4:$Q$503,12,FALSE)="X", "X", ""),"") | M5: =_xlfn.IFNA(IF(VLOOKUP($A5,'DESGLOSE PRESUPUESTO'!$A$4:$Q$503,13,FALSE)="X", "X", ""),"") | N5: =_xlfn.IFNA(IF(VLOOKUP($A5,'DESGLOSE PRESUPUESTO'!$A$4:$Q$503,14,FALSE)="X", "X", ""),"") | O5: =_xlfn.IFNA(IF(VLOOKUP($A5,'DESGLOSE PRESUPUESTO'!$A$4:$Q$503,15,FALSE)="X", "X", ""),"") | P5: =_xlfn.IFNA(IF(VLOOKUP($A5,'DESGLOSE PRESUPUESTO'!$A$4:$Q$503,16,FALSE)="X", "X", ""),"") | Q5: =_xlfn.IFNA(IF(VLOOKUP($A5,'DESGLOSE PRESUPUESTO'!$A$4:$Q$503,17,FALSE)="X", "X", ""),"") | R5: =SUMIF('DESGLOSE PRESUPUESTO'!$A$5:$A$503,$A$5:$A$264,'DESGLOSE PRESUPUESTO'!$S$5:$S$503) -> 0 | W5: =R265 -> 0
A6: A2 | B6: =_xlfn.IFNA(VLOOKUP($A6,'DESGLOSE PRESUPUESTO'!$A$4:B$503,2,FALSE),"") | C6: =_xlfn.IFNA(VLOOKUP($A6,'DESGLOSE PRESUPUESTO'!$A$4:C$503,3,FALSE),"") | D6: =_xlfn.IFNA(VLOOKUP($A6,'DESGLOSE PRESUPUESTO'!$A$4:D$503,4,FALSE),"") | E6: =_xlfn.IFNA(VLOOKUP($A6,'DESGLOSE PRESUPUESTO'!$A$4:E$503,5,FALSE),"") | F6: =_xlfn.IFNA(IF(VLOOKUP($A6,'DESGLOSE PRESUPUESTO'!$A$4:$Q$503,6,FALSE)="X", "X", ""),"") | G6: =_xlfn.IFNA(IF(VLOOKUP($A6,'DESGLOSE PRESUPUESTO'!$A$4:$Q$503,7,FALSE)="X", "X", ""),"") | H6: =_xlfn.IFNA(IF(VLOOKUP($A6,'DESGLOSE PRESUPUESTO'!$A$4:$Q$503,8,FALSE)="X", "X", ""),"") | I6: =_xlfn.IFNA(IF(VLOOKUP($A6,'DESGLOSE PRESUPUESTO'!$A$4:$Q$503,9,FALSE)="X", "X", ""),"") | J6: =_xlfn.IFNA(IF(VLOOKUP($A6,'DESGLOSE PRESUPUESTO'!$A$4:$Q$503,10,FALSE)="X", "X", ""),"") | K6: =_xlfn.IFNA(IF(VLOOKUP($A6,'DESGLOSE PRESUPUESTO'!$A$4:$Q$503,11,FALSE)="X", "X", ""),"") | L6: =_xlfn.IFNA(IF(VLOOKUP($A6,'DESGLOSE PRESUPUESTO'!$A$4:$Q$503,12,FALSE)="X", "X", ""),"") | M6: =_xlfn.IFNA(IF(VLOOKUP($A6,'DESGLOSE PRESUPUESTO'!$A$4:$Q$503,13,FALSE)="X", "X", ""),"") | N6: =_xlfn.IFNA(IF(VLOOKUP($A6,'DESGLOSE PRESUPUESTO'!$A$4:$Q$503,14,FALSE)="X", "X", ""),"") | O6: =_xlfn.IFNA(IF(VLOOKUP($A6,'DESGLOSE PRESUPUESTO'!$A$4:$Q$503,15,FALSE)="X", "X", ""),"") | P6: =_xlfn.IFNA(IF(VLOOKUP($A6,'DESGLOSE PRESUPUESTO'!$A$4:$Q$503,16,FALSE)="X", "X", ""),"") | Q6: =_xlfn.IFNA(IF(VLOOKUP($A6,'DESGLOSE PRESUPUESTO'!$A$4:$Q$503,17,FALSE)="X", "X", ""),"") | R6: =SUMIF('DESGLOSE PRESUPUESTO'!$A$5:$A$503,$A$5:$A$264,'DESGLOSE PRESUPUESTO'!$S$5:$S$503) -> 0
A7: A3 | B7: =_xlfn.IFNA(VLOOKUP($A7,'DESGLOSE PRESUPUESTO'!$A$4:B$503,2,FALSE),"") | C7: =_xlfn.IFNA(VLOOKUP($A7,'DESGLOSE PRESUPUESTO'!$A$4:C$503,3,FALSE),"") | D7: =_xlfn.IFNA(VLOOKUP($A7,'DESGLOSE PRESUPUESTO'!$A$4:D$503,4,FALSE),"") | E7: =_xlfn.IFNA(VLOOKUP($A7,'DESGLOSE PRESUPUESTO'!$A$4:E$503,5,FALSE),"") | F7: =_xlfn.IFNA(IF(VLOOKUP($A7,'DESGLOSE PRESUPUESTO'!$A$4:$Q$503,6,FALSE)="X", "X", ""),"") | G7: =_xlfn.IFNA(IF(VLOOKUP($A7,'DESGLOSE PRESUPUESTO'!$A$4:$Q$503,7,FALSE)="X", "X", ""),"") | H7: =_xlfn.IFNA(IF(VLOOKUP($A7,'DESGLOSE PRESUPUESTO'!$A$4:$Q$503,8,FALSE)="X", "X", ""),"") | I7: =_xlfn.IFNA(IF(VLOOKUP($A7,'DESGLOSE PRESUPUESTO'!$A$4:$Q$503,9,FALSE)="X", "X", ""),"") | J7: =_xlfn.IFNA(IF(VLOOKUP($A7,'DESGLOSE PRESUPUESTO'!$A$4:$Q$503,10,FALSE)="X", "X", ""),"") | K7: =_xlfn.IFNA(IF(VLOOKUP($A7,'DESGLOSE PRESUPUESTO'!$A$4:$Q$503,11,FALSE)="X", "X", ""),"") | L7: =_xlfn.IFNA(IF(VLOOKUP($A7,'DESGLOSE PRESUPUESTO'!$A$4:$Q$503,12,FALSE)="X", "X", ""),"") | M7: =_xlfn.IFNA(IF(VLOOKUP($A7,'DESGLOSE PRESUPUESTO'!$A$4:$Q$503,13,FALSE)="X", "X", ""),"") | N7: =_xlfn.IFNA(IF(VLOOKUP($A7,'DESGLOSE PRESUPUESTO'!$A$4:$Q$503,14,FALSE)="X", "X", ""),"") | O7: =_xlfn.IFNA(IF(VLOOKUP($A7,'DESGLOSE PRESUPUESTO'!$A$4:$Q$503,15,FALSE)="X", "X", ""),"") | P7: =_xlfn.IFNA(IF(VLOOKUP($A7,'DESGLOSE PRESUPUESTO'!$A$4:$Q$503,16,FALSE)="X", "X", ""),"") | Q7: =_xlfn.IFNA(IF(VLOOKUP($A7,'DESGLOSE PRESUPUESTO'!$A$4:$Q$503,17,FALSE)="X", "X", ""),"") | R7: =SUMIF('DESGLOSE PRESUPUESTO'!$A$5:$A$503,$A$5:$A$264,'DESGLOSE PRESUPUESTO'!$S$5:$S$503) -> 0 | W7: TOTAL DESGLOSE PRESUPUESTO
A8: A4 | B8: =_xlfn.IFNA(VLOOKUP($A8,'DESGLOSE PRESUPUESTO'!$A$4:B$503,2,FALSE),"") | C8: =_xlfn.IFNA(VLOOKUP($A8,'DESGLOSE PRESUPUESTO'!$A$4:C$503,3,FALSE),"") | D8: =_xlfn.IFNA(VLOOKUP($A8,'DESGLOSE PRESUPUESTO'!$A$4:D$503,4,FALSE),"") | E8: =_xlfn.IFNA(VLOOKUP($A8,'DESGLOSE PRESUPUESTO'!$A$4:E$503,5,FALSE),"") | F8: =_xlfn.IFNA(IF(VLOOKUP($A8,'DESGLOSE PRESUPUESTO'!$A$4:$Q$503,6,FALSE)="X", "X", ""),"") | G8: =_xlfn.IFNA(IF(VLOOKUP($A8,'DESGLOSE PRESUPUESTO'!$A$4:$Q$503,7,FALSE)="X", "X", ""),"") | H8: =_xlfn.IFNA(IF(VLOOKUP($A8,'DESGLOSE PRESUPUESTO'!$A$4:$Q$503,8,FALSE)="X", "X", ""),"") | I8: =_xlfn.IFNA(IF(VLOOKUP($A8,'DESGLOSE PRESUPUESTO'!$A$4:$Q$503,9,FALSE)="X", "X", ""),"") | J8: =_xlfn.IFNA(IF(VLOOKUP($A8,'DESGLOSE PRESUPUESTO'!$A$4:$Q$503,10,FALSE)="X", "X", ""),"") | K8: =_xlfn.IFNA(IF(VLOOKUP($A8,'DESGLOSE PRESUPUESTO'!$A$4:$Q$503,11,FALSE)="X", "X", ""),"") | L8: =_xlfn.IFNA(IF(VLOOKUP($A8,'DESGLOSE PRESUPUESTO'!$A$4:$Q$503,12,FALSE)="X", "X", ""),"") | M8: =_xlfn.IFNA(IF(VLOOKUP($A8,'DESGLOSE PRESUPUESTO'!$A$4:$Q$503,13,FALSE)="X", "X", ""),"") | N8: =_xlfn.IFNA(IF(VLOOKUP($A8,'DESGLOSE PRESUPUESTO'!$A$4:$Q$503,14,FALSE)="X", "X", ""),"") | O8: =_xlfn.IFNA(IF(VLOOKUP($A8,'DESGLOSE PRESUPUESTO'!$A$4:$Q$503,15,FALSE)="X", "X", ""),"") | P8: =_xlfn.IFNA(IF(VLOOKUP($A8,'DESGLOSE PRESUPUESTO'!$A$4:$Q$503,16,FALSE)="X", "X", ""),"") | Q8: =_xlfn.IFNA(IF(VLOOKUP($A8,'DESGLOSE PRESUPUESTO'!$A$4:$Q$503,17,FALSE)="X", "X", ""),"") | R8: =SUMIF('DESGLOSE PRESUPUESTO'!$A$5:$A$503,$A$5:$A$264,'DESGLOSE PRESUPUESTO'!$S$5:$S$503) -> 0 | W8: ='DESGLOSE PRESUPUESTO'!S504 -> 0
A9: A5 | B9: =_xlfn.IFNA(VLOOKUP($A9,'DESGLOSE PRESUPUESTO'!$A$4:B$503,2,FALSE),"") | C9: =_xlfn.IFNA(VLOOKUP($A9,'DESGLOSE PRESUPUESTO'!$A$4:C$503,3,FALSE),"") | D9: =_xlfn.IFNA(VLOOKUP($A9,'DESGLOSE PRESUPUESTO'!$A$4:D$503,4,FALSE),"") | E9: =_xlfn.IFNA(VLOOKUP($A9,'DESGLOSE PRESUPUESTO'!$A$4:E$503,5,FALSE),"") | F9: =_xlfn.IFNA(IF(VLOOKUP($A9,'DESGLOSE PRESUPUESTO'!$A$4:$Q$503,6,FALSE)="X", "X", ""),"") | G9: =_xlfn.IFNA(IF(VLOOKUP($A9,'DESGLOSE PRESUPUESTO'!$A$4:$Q$503,7,FALSE)="X", "X", ""),"") | H9: =_xlfn.IFNA(IF(VLOOKUP($A9,'DESGLOSE PRESUPUESTO'!$A$4:$Q$503,8,FALSE)="X", "X", ""),"") | I9: =_xlfn.IFNA(IF(VLOOKUP($A9,'DESGLOSE PRESUPUESTO'!$A$4:$Q$503,9,FALSE)="X", "X", ""),"") | J9: =_xlfn.IFNA(IF(VLOOKUP($A9,'DESGLOSE PRESUPUESTO'!$A$4:$Q$503,10,FALSE)="X", "X", ""),"") | K9: =_xlfn.IFNA(IF(VLOOKUP($A9,'DESGLOSE PRESUPUESTO'!$A$4:$Q$503,11,FALSE)="X", "X", ""),"") | L9: =_xlfn.IFNA(IF(VLOOKUP($A9,'DESGLOSE PRESUPUESTO'!$A$4:$Q$503,12,FALSE)="X", "X", ""),"") | M9: =_xlfn.IFNA(IF(VLOOKUP($A9,'DESGLOSE PRESUPUESTO'!$A$4:$Q$503,13,FALSE)="X", "X", ""),"") | N9: =_xlfn.IFNA(IF(VLOOKUP($A9,'DESGLOSE PRESUPUESTO'!$A$4:$Q$503,14,FALSE)="X", "X", ""),"") | O9: =_xlfn.IFNA(IF(VLOOKUP($A9,'DESGLOSE PRESUPUESTO'!$A$4:$Q$503,15,FALSE)="X", "X", ""),"") | P9: =_xlfn.IFNA(IF(VLOOKUP($A9,'DESGLOSE PRESUPUESTO'!$A$4:$Q$503,16,FALSE)="X", "X", ""),"") | Q9: =_xlfn.IFNA(IF(VLOOKUP($A9,'DESGLOSE PRESUPUESTO'!$A$4:$Q$503,17,FALSE)="X", "X", ""),"") | R9: =SUMIF('DESGLOSE PRESUPUESTO'!$A$5:$A$503,$A$5:$A$264,'DESGLOSE PRESUPUESTO'!$S$5:$S$503) -> 0
A10: A6 | B10: =_xlfn.IFNA(VLOOKUP($A10,'DESGLOSE PRESUPUESTO'!$A$4:B$503,2,FALSE),"") | C10: =_xlfn.IFNA(VLOOKUP($A10,'DESGLOSE PRESUPUESTO'!$A$4:C$503,3,FALSE),"") | D10: =_xlfn.IFNA(VLOOKUP($A10,'DESGLOSE PRESUPUESTO'!$A$4:D$503,4,FALSE),"") | E10: =_xlfn.IFNA(VLOOKUP($A10,'DESGLOSE PRESUPUESTO'!$A$4:E$503,5,FALSE),"") | F10: =_xlfn.IFNA(IF(VLOOKUP($A10,'DESGLOSE PRESUPUESTO'!$A$4:$Q$503,6,FALSE)="X", "X", ""),"") | G10: =_xlfn.IFNA(IF(VLOOKUP($A10,'DESGLOSE PRESUPUESTO'!$A$4:$Q$503,7,FALSE)="X", "X", ""),"") | H10: =_xlfn.IFNA(IF(VLOOKUP($A10,'DESGLOSE PRESUPUESTO'!$A$4:$Q$503,8,FALSE)="X", "X", ""),"") | I10: =_xlfn.IFNA(IF(VLOOKUP($A10,'DESGLOSE PRESUPUESTO'!$A$4:$Q$503,9,FALSE)="X", "X", ""),"") | J10: =_xlfn.IFNA(IF(VLOOKUP($A10,'DESGLOSE PRESUPUESTO'!$A$4:$Q$503,10,FALSE)="X", "X", ""),"") | K10: =_xlfn.IFNA(IF(VLOOKUP($A10,'DESGLOSE PRESUPUESTO'!$A$4:$Q$503,11,FALSE)="X", "X", ""),"") | L10: =_xlfn.IFNA(IF(VLOOKUP($A10,'DESGLOSE PRESUPUESTO'!$A$4:$Q$503,12,FALSE)="X", "X", ""),"") | M10: =_xlfn.IFNA(IF(VLOOKUP($A10,'DESGLOSE PRESUPUESTO'!$A$4:$Q$503,13,FALSE)="X", "X", ""),"") | N10: =_xlfn.IFNA(IF(VLOOKUP($A10,'DESGLOSE PRESUPUESTO'!$A$4:$Q$503,14,FALSE)="X", "X", ""),"") | O10: =_xlfn.IFNA(IF(VLOOKUP($A10,'DESGLOSE PRESUPUESTO'!$A$4:$Q$503,15,FALSE)="X", "X", ""),"") | P10: =_xlfn.IFNA(IF(VLOOKUP($A10,'DESGLOSE PRESUPUESTO'!$A$4:$Q$503,16,FALSE)="X", "X", ""),"") | Q10: =_xlfn.IFNA(IF(VLOOKUP($A10,'DESGLOSE PRESUPUESTO'!$A$4:$Q$503,17,FALSE)="X", "X", ""),"") | R10: =SUMIF('DESGLOSE PRESUPUESTO'!$A$5:$A$503,$A$5:$A$264,'DESGLOSE PRESUPUESTO'!$S$5:$S$503) -> 0 | W10: =IF(W5=W8, "IMPORTE PRESUPUESTOS Y DESGLOSE COINCIDEN","COMPROBAR IMPORTES PRESUPUESTO Y DESGLOSE") -> IMPORTE PRESUPUESTOS Y DESGLOSE COINCIDEN
A11: A7 | B11: =_xlfn.IFNA(VLOOKUP($A11,'DESGLOSE PRESUPUESTO'!$A$4:B$503,2,FALSE),"") | C11: =_xlfn.IFNA(VLOOKUP($A11,'DESGLOSE PRESUPUESTO'!$A$4:C$503,3,FALSE),"") | D11: =_xlfn.IFNA(VLOOKUP($A11,'DESGLOSE PRESUPUESTO'!$A$4:D$503,4,FALSE),"") | E11: =_xlfn.IFNA(VLOOKUP($A11,'DESGLOSE PRESUPUESTO'!$A$4:E$503,5,FALSE),"") | F11: =_xlfn.IFNA(IF(VLOOKUP($A11,'DESGLOSE PRESUPUESTO'!$A$4:$Q$503,6,FALSE)="X", "X", ""),"") | G11: =_xlfn.IFNA(IF(VLOOKUP($A11,'DESGLOSE PRESUPUESTO'!$A$4:$Q$503,7,FALSE)="X", "X", ""),"") | H11: =_xlfn.IFNA(IF(VLOOKUP($A11,'DESGLOSE PRESUPUESTO'!$A$4:$Q$503,8,FALSE)="X", "X", ""),"") | I11: =_xlfn.IFNA(IF(VLOOKUP($A11,'DESGLOSE PRESUPUESTO'!$A$4:$Q$503,9,FALSE)="X", "X", ""),"") | J11: =_xlfn.IFNA(IF(VLOOKUP($A11,'DESGLOSE PRESUPUESTO'!$A$4:$Q$503,10,FALSE)="X", "X", ""),"") | K11: =_xlfn.IFNA(IF(VLOOKUP($A11,'DESGLOSE PRESUPUESTO'!$A$4:$Q$503,11,FALSE)="X", "X", ""),"") | L11: =_xlfn.IFNA(IF(VLOOKUP($A11,'DESGLOSE PRESUPUESTO'!$A$4:$Q$503,12,FALSE)="X", "X", ""),"") | M11: =_xlfn.IFNA(IF(VLOOKUP($A11,'DESGLOSE PRESUPUESTO'!$A$4:$Q$503,13,FALSE)="X", "X", ""),"") | N11: =_xlfn.IFNA(IF(VLOOKUP($A11,'DESGLOSE PRESUPUESTO'!$A$4:$Q$503,14,FALSE)="X", "X", ""),"") | O11: =_xlfn.IFNA(IF(VLOOKUP($A11,'DESGLOSE PRESUPUESTO'!$A$4:$Q$503,15,FALSE)="X", "X", ""),"") | P11: =_xlfn.IFNA(IF(VLOOKUP($A11,'DESGLOSE PRESUPUESTO'!$A$4:$Q$503,16,FALSE)="X", "X", ""),"") | Q11: =_xlfn.IFNA(IF(VLOOKUP($A11,'DESGLOSE PRESUPUESTO'!$A$4:$Q$503,17,FALSE)="X", "X", ""),"") | R11: =SUMIF('DESGLOSE PRESUPUESTO'!$A$5:$A$503,$A$5:$A$264,'DESGLOSE PRESUPUESTO'!$S$5:$S$503) -> 0
A12: A8 | B12: =_xlfn.IFNA(VLOOKUP($A12,'DESGLOSE PRESUPUESTO'!$A$4:B$503,2,FALSE),"") | C12: =_xlfn.IFNA(VLOOKUP($A12,'DESGLOSE PRESUPUESTO'!$A$4:C$503,3,FALSE),"") | D12: =_xlfn.IFNA(VLOOKUP($A12,'DESGLOSE PRESUPUESTO'!$A$4:D$503,4,FALSE),"") | E12: =_xlfn.IFNA(VLOOKUP($A12,'DESGLOSE PRESUPUESTO'!$A$4:E$503,5,FALSE),"") | F12: =_xlfn.IFNA(IF(VLOOKUP($A12,'DESGLOSE PRESUPUESTO'!$A$4:$Q$503,6,FALSE)="X", "X", ""),"") | G12: =_xlfn.IFNA(IF(VLOOKUP($A12,'DESGLOSE PRESUPUESTO'!$A$4:$Q$503,7,FALSE)="X", "X", ""),"") | H12: =_xlfn.IFNA(IF(VLOOKUP($A12,'DESGLOSE PRESUPUESTO'!$A$4:$Q$503,8,FALSE)="X", "X", ""),"") | I12: =_xlfn.IFNA(IF(VLOOKUP($A12,'DESGLOSE PRESUPUESTO'!$A$4:$Q$503,9,FALSE)="X", "X", ""),"") | J12: =_xlfn.IFNA(IF(VLOOKUP($A12,'DESGLOSE PRESUPUESTO'!$A$4:$Q$503,10,FALSE)="X", "X", ""),"") | K12: =_xlfn.IFNA(IF(VLOOKUP($A12,'DESGLOSE PRESUPUESTO'!$A$4:$Q$503,11,FALSE)="X", "X", ""),"") | L12: =_xlfn.IFNA(IF(VLOOKUP($A12,'DESGLOSE PRESUPUESTO'!$A$4:$Q$503,12,FALSE)="X", "X", ""),"") | M12: =_xlfn.IFNA(IF(VLOOKUP($A12,'DESGLOSE PRESUPUESTO'!$A$4:$Q$503,13,FALSE)="X", "X", ""),"") | N12: =_xlfn.IFNA(IF(VLOOKUP($A12,'DESGLOSE PRESUPUESTO'!$A$4:$Q$503,14,FALSE)="X", "X", ""),"") | O12: =_xlfn.IFNA(IF(VLOOKUP($A12,'DESGLOSE PRESUPUESTO'!$A$4:$Q$503,15,FALSE)="X", "X", ""),"") | P12: =_xlfn.IFNA(IF(VLOOKUP($A12,'DESGLOSE PRESUPUESTO'!$A$4:$Q$503,16,FALSE)="X", "X", ""),"") | Q12: =_xlfn.IFNA(IF(VLOOKUP($A12,'DESGLOSE PRESUPUESTO'!$A$4:$Q$503,17,FALSE)="X", "X", ""),"") | R12: =SUMIF('DESGLOSE PRESUPUESTO'!$A$5:$A$503,$A$5:$A$264,'DESGLOSE PRESUPUESTO'!$S$5:$S$503) -> 0
A13: A9 | B13: =_xlfn.IFNA(VLOOKUP($A13,'DESGLOSE PRESUPUESTO'!$A$4:B$503,2,FALSE),"") | C13: =_xlfn.IFNA(VLOOKUP($A13,'DESGLOSE PRESUPUESTO'!$A$4:C$503,3,FALSE),"") | D13: =_xlfn.IFNA(VLOOKUP($A13,'DESGLOSE PRESUPUESTO'!$A$4:D$503,4,FALSE),"") | E13: =_xlfn.IFNA(VLOOKUP($A13,'DESGLOSE PRESUPUESTO'!$A$4:E$503,5,FALSE),"") | F13: =_xlfn.IFNA(IF(VLOOKUP($A13,'DESGLOSE PRESUPUESTO'!$A$4:$Q$503,6,FALSE)="X", "X", ""),"") | G13: =_xlfn.IFNA(IF(VLOOKUP($A13,'DESGLOSE PRESUPUESTO'!$A$4:$Q$503,7,FALSE)="X", "X", ""),"") | H13: =_xlfn.IFNA(IF(VLOOKUP($A13,'DESGLOSE PRESUPUESTO'!$A$4:$Q$503,8,FALSE)="X", "X", ""),"") | I13: =_xlfn.IFNA(IF(VLOOKUP($A13,'DESGLOSE PRESUPUESTO'!$A$4:$Q$503,9,FALSE)="X", "X", ""),"") | J13: =_xlfn.IFNA(IF(VLOOKUP($A13,'DESGLOSE PRESUPUESTO'!$A$4:$Q$503,10,FALSE)="X", "X", ""),"") | K13: =_xlfn.IFNA(IF(VLOOKUP($A13,'DESGLOSE PRESUPUESTO'!$A$4:$Q$503,11,FALSE)="X", "X", ""),"") | L13: =_xlfn.IFNA(IF(VLOOKUP($A13,'DESGLOSE PRESUPUESTO'!$A$4:$Q$503,12,FALSE)="X", "X", ""),"") | M13: =_xlfn.IFNA(IF(VLOOKUP($A13,'DESGLOSE PRESUPUESTO'!$A$4:$Q$503,13,FALSE)="X", "X", ""),"") | N13: =_xlfn.IFNA(IF(VLOOKUP($A13,'DESGLOSE PRESUPUESTO'!$A$4:$Q$503,14,FALSE)="X", "X", ""),"") | O13: =_xlfn.IFNA(IF(VLOOKUP($A13,'DESGLOSE PRESUPUESTO'!$A$4:$Q$503,15,FALSE)="X", "X", ""),"") | P13: =_xlfn.IFNA(IF(VLOOKUP($A13,'DESGLOSE PRESUPUESTO'!$A$4:$Q$503,16,FALSE)="X", "X", ""),"") | Q13: =_xlfn.IFNA(IF(VLOOKUP($A13,'DESGLOSE PRESUPUESTO'!$A$4:$Q$503,17,FALSE)="X", "X", ""),"") | R13: =SUMIF('DESGLOSE PRESUPUESTO'!$A$5:$A$503,$A$5:$A$264,'DESGLOSE PRESUPUESTO'!$S$5:$S$503) -> 0
A14: A10 | B14: =_xlfn.IFNA(VLOOKUP($A14,'DESGLOSE PRESUPUESTO'!$A$4:B$503,2,FALSE),"") | C14: =_xlfn.IFNA(VLOOKUP($A14,'DESGLOSE PRESUPUESTO'!$A$4:C$503,3,FALSE),"") | D14: =_xlfn.IFNA(VLOOKUP($A14,'DESGLOSE PRESUPUESTO'!$A$4:D$503,4,FALSE),"") | E14: =_xlfn.IFNA(VLOOKUP($A14,'DESGLOSE PRESUPUESTO'!$A$4:E$503,5,FALSE),"") | F14: =_xlfn.IFNA(IF(VLOOKUP($A14,'DESGLOSE PRESUPUESTO'!$A$4:$Q$503,6,FALSE)="X", "X", ""),"") | G14: =_xlfn.IFNA(IF(VLOOKUP($A14,'DESGLOSE PRESUPUESTO'!$A$4:$Q$503,7,FALSE)="X", "X", ""),"") | H14: =_xlfn.IFNA(IF(VLOOKUP($A14,'DESGLOSE PRESUPUESTO'!$A$4:$Q$503,8,FALSE)="X", "X", ""),"") | I14: =_xlfn.IFNA(IF(VLOOKUP($A14,'DESGLOSE PRESUPUESTO'!$A$4:$Q$503,9,FALSE)="X", "X", ""),"") | J14: =_xlfn.IFNA(IF(VLOOKUP($A14,'DESGLOSE PRESUPUESTO'!$A$4:$Q$503,10,FALSE)="X", "X", ""),"") | K14: =_xlfn.IFNA(IF(VLOOKUP($A14,'DESGLOSE PRESUPUESTO'!$A$4:$Q$503,11,FALSE)="X", "X", ""),"") | L14: =_xlfn.IFNA(IF(VLOOKUP($A14,'DESGLOSE PRESUPUESTO'!$A$4:$Q$503,12,FALSE)="X", "X", ""),"") | M14: =_xlfn.IFNA(IF(VLOOKUP($A14,'DESGLOSE PRESUPUESTO'!$A$4:$Q$503,13,FALSE)="X", "X", ""),"") | N14: =_xlfn.IFNA(IF(VLOOKUP($A14,'DESGLOSE PRESUPUESTO'!$A$4:$Q$503,14,FALSE)="X", "X", ""),"") | O14: =_xlfn.IFNA(IF(VLOOKUP($A14,'DESGLOSE PRESUPUESTO'!$A$4:$Q$503,15,FALSE)="X", "X", ""),"") | P14: =_xlfn.IFNA(IF(VLOOKUP($A14,'DESGLOSE PRESUPUESTO'!$A$4:$Q$503,16,FALSE)="X", "X", ""),"") | Q14: =_xlfn.IFNA(IF(VLOOKUP($A14,'DESGLOSE PRESUPUESTO'!$A$4:$Q$503,17,FALSE)="X", "X", ""),"") | R14: =SUMIF('DESGLOSE PRESUPUESTO'!$A$5:$A$503,$A$5:$A$264,'DESGLOSE PRESUPUESTO'!$S$5:$S$503) -> 0
A15: A11 | B15: =_xlfn.IFNA(VLOOKUP($A15,'DESGLOSE PRESUPUESTO'!$A$4:B$503,2,FALSE),"") | C15: =_xlfn.IFNA(VLOOKUP($A15,'DESGLOSE PRESUPUESTO'!$A$4:C$503,3,FALSE),"") | D15: =_xlfn.IFNA(VLOOKUP($A15,'DESGLOSE PRESUPUESTO'!$A$4:D$503,4,FALSE),"") | E15: =_xlfn.IFNA(VLOOKUP($A15,'DESGLOSE PRESUPUESTO'!$A$4:E$503,5,FALSE),"") | F15: =_xlfn.IFNA(IF(VLOOKUP($A15,'DESGLOSE PRESUPUESTO'!$A$4:$Q$503,6,FALSE)="X", "X", ""),"") | G15: =_xlfn.IFNA(IF(VLOOKUP($A15,'DESGLOSE PRESUPUESTO'!$A$4:$Q$503,7,FALSE)="X", "X", ""),"") | H15: =_xlfn.IFNA(IF(VLOOKUP($A15,'DESGLOSE PRESUPUESTO'!$A$4:$Q$503,8,FALSE)="X", "X", ""),"") | I15: =_xlfn.IFNA(IF(VLOOKUP($A15,'DESGLOSE PRESUPUESTO'!$A$4:$Q$503,9,FALSE)="X", "X", ""),"") | J15: =_xlfn.IFNA(IF(VLOOKUP($A15,'DESGLOSE PRESUPUESTO'!$A$4:$Q$503,10,FALSE)="X", "X", ""),"") | K15: =_xlfn.IFNA(IF(VLOOKUP($A15,'DESGLOSE PRESUPUESTO'!$A$4:$Q$503,11,FALSE)="X", "X", ""),"") | L15: =_xlfn.IFNA(IF(VLOOKUP($A15,'DESGLOSE PRESUPUESTO'!$A$4:$Q$503,12,FALSE)="X", "X", ""),"") | M15: =_xlfn.IFNA(IF(VLOOKUP($A15,'DESGLOSE PRESUPUESTO'!$A$4:$Q$503,13,FALSE)="X", "X", ""),"") | N15: =_xlfn.IFNA(IF(VLOOKUP($A15,'DESGLOSE PRESUPUESTO'!$A$4:$Q$503,14,FALSE)="X", "X", ""),"") | O15: =_xlfn.IFNA(IF(VLOOKUP($A15,'DESGLOSE PRESUPUESTO'!$A$4:$Q$503,15,FALSE)="X", "X", ""),"") | P15: =_xlfn.IFNA(IF(VLOOKUP($A15,'DESGLOSE PRESUPUESTO'!$A$4:$Q$503,16,FALSE)="X", "X", ""),"") | Q15: =_xlfn.IFNA(IF(VLOOKUP($A15,'DESGLOSE PRESUPUESTO'!$A$4:$Q$503,17,FALSE)="X", "X", ""),"") | R15: =SUMIF('DESGLOSE PRESUPUESTO'!$A$5:$A$503,$A$5:$A$264,'DESGLOSE PRESUPUESTO'!$S$5:$S$503) -> 0
A16: A12 | B16: =_xlfn.IFNA(VLOOKUP($A16,'DESGLOSE PRESUPUESTO'!$A$4:B$503,2,FALSE),"") | C16: =_xlfn.IFNA(VLOOKUP($A16,'DESGLOSE PRESUPUESTO'!$A$4:C$503,3,FALSE),"") | D16: =_xlfn.IFNA(VLOOKUP($A16,'DESGLOSE PRESUPUESTO'!$A$4:D$503,4,FALSE),"") | E16: =_xlfn.IFNA(VLOOKUP($A16,'DESGLOSE PRESUPUESTO'!$A$4:E$503,5,FALSE),"") | F16: =_xlfn.IFNA(IF(VLOOKUP($A16,'DESGLOSE PRESUPUESTO'!$A$4:$Q$503,6,FALSE)="X", "X", ""),"") | G16: =_xlfn.IFNA(IF(VLOOKUP($A16,'DESGLOSE PRESUPUESTO'!$A$4:$Q$503,7,FALSE)="X", "X", ""),"") | H16: =_xlfn.IFNA(IF(VLOOKUP($A16,'DESGLOSE PRESUPUESTO'!$A$4:$Q$503,8,FALSE)="X", "X", ""),"") | I16: =_xlfn.IFNA(IF(VLOOKUP($A16,'DESGLOSE PRESUPUESTO'!$A$4:$Q$503,9,FALSE)="X", "X", ""),"") | J16: =_xlfn.IFNA(IF(VLOOKUP($A16,'DESGLOSE PRESUPUESTO'!$A$4:$Q$503,10,FALSE)="X", "X", ""),"") | K16: =_xlfn.IFNA(IF(VLOOKUP($A16,'DESGLOSE PRESUPUESTO'!$A$4:$Q$503,11,FALSE)="X", "X", ""),"") | L16: =_xlfn.IFNA(IF(VLOOKUP($A16,'DESGLOSE PRESUPUESTO'!$A$4:$Q$503,12,FALSE)="X", "X", ""),"") | M16: =_xlfn.IFNA(IF(VLOOKUP($A16,'DESGLOSE PRESUPUESTO'!$A$4:$Q$503,13,FALSE)="X", "X", ""),"") | N16: =_xlfn.IFNA(IF(VLOOKUP($A16,'DESGLOSE PRESUPUESTO'!$A$4:$Q$503,14,FALSE)="X", "X", ""),"") | O16: =_xlfn.IFNA(IF(VLOOKUP($A16,'DESGLOSE PRESUPUESTO'!$A$4:$Q$503,15,FALSE)="X", "X", ""),"") | P16: =_xlfn.IFNA(IF(VLOOKUP($A16,'DESGLOSE PRESUPUESTO'!$A$4:$Q$503,16,FALSE)="X", "X", ""),"") | Q16: =_xlfn.IFNA(IF(VLOOKUP($A16,'DESGLOSE PRESUPUESTO'!$A$4:$Q$503,17,FALSE)="X", "X", ""),"") | R16: =SUMIF('DESGLOSE PRESUPUESTO'!$A$5:$A$503,$A$5:$A$264,'DESGLOSE PRESUPUESTO'!$S$5:$S$503) -> 0
A17: A13 | B17: =_xlfn.IFNA(VLOOKUP($A17,'DESGLOSE PRESUPUESTO'!$A$4:B$503,2,FALSE),"") | C17: =_xlfn.IFNA(VLOOKUP($A17,'DESGLOSE PRESUPUESTO'!$A$4:C$503,3,FALSE),"") | D17: =_xlfn.IFNA(VLOOKUP($A17,'DESGLOSE PRESUPUESTO'!$A$4:D$503,4,FALSE),"") | E17: =_xlfn.IFNA(VLOOKUP($A17,'DESGLOSE PRESUPUESTO'!$A$4:E$503,5,FALSE),"") | F17: =_xlfn.IFNA(IF(VLOOKUP($A17,'DESGLOSE PRESUPUESTO'!$A$4:$Q$503,6,FALSE)="X", "X", ""),"") | G17: =_xlfn.IFNA(IF(VLOOKUP($A17,'DESGLOSE PRESUPUESTO'!$A$4:$Q$503,7,FALSE)="X", "X", ""),"") | H17: =_xlfn.IFNA(IF(VLOOKUP($A17,'DESGLOSE PRESUPUESTO'!$A$4:$Q$503,8,FALSE)="X", "X", ""),"") | I17: =_xlfn.IFNA(IF(VLOOKUP($A17,'DESGLOSE PRESUPUESTO'!$A$4:$Q$503,9,FALSE)="X", "X", ""),"") | J17: =_xlfn.IFNA(IF(VLOOKUP($A17,'DESGLOSE PRESUPUESTO'!$A$4:$Q$503,10,FALSE)="X", "X", ""),"") | K17: =_xlfn.IFNA(IF(VLOOKUP($A17,'DESGLOSE PRESUPUESTO'!$A$4:$Q$503,11,FALSE)="X", "X", ""),"") | L17: =_xlfn.IFNA(IF(VLOOKUP($A17,'DESGLOSE PRESUPUESTO'!$A$4:$Q$503,12,FALSE)="X", "X", ""),"") | M17: =_xlfn.IFNA(IF(VLOOKUP($A17,'DESGLOSE PRESUPUESTO'!$A$4:$Q$503,13,FALSE)="X", "X", ""),"") | N17: =_xlfn.IFNA(IF(VLOOKUP($A17,'DESGLOSE PRESUPUESTO'!$A$4:$Q$503,14,FALSE)="X", "X", ""),"") | O17: =_xlfn.IFNA(IF(VLOOKUP($A17,'DESGLOSE PRESUPUESTO'!$A$4:$Q$503,15,FALSE)="X", "X", ""),"") | P17: =_xlfn.IFNA(IF(VLOOKUP($A17,'DESGLOSE PRESUPUESTO'!$A$4:$Q$503,16,FALSE)="X", "X", ""),"") | Q17: =_xlfn.IFNA(IF(VLOOKUP($A17,'DESGLOSE PRESUPUESTO'!$A$4:$Q$503,17,FALSE)="X", "X", ""),"") | R17: =SUMIF('DESGLOSE PRESUPUESTO'!$A$5:$A$503,$A$5:$A$264,'DESGLOSE PRESUPUESTO'!$S$5:$S$503) -> 0
A18: A14 | B18: =_xlfn.IFNA(VLOOKUP($A18,'DESGLOSE PRESUPUESTO'!$A$4:B$503,2,FALSE),"") | C18: =_xlfn.IFNA(VLOOKUP($A18,'DESGLOSE PRESUPUESTO'!$A$4:C$503,3,FALSE),"") | D18: =_xlfn.IFNA(VLOOKUP($A18,'DESGLOSE PRESUPUESTO'!$A$4:D$503,4,FALSE),"") | E18: =_xlfn.IFNA(VLOOKUP($A18,'DESGLOSE PRESUPUESTO'!$A$4:E$503,5,FALSE),"") | F18: =_xlfn.IFNA(IF(VLOOKUP($A18,'DESGLOSE PRESUPUESTO'!$A$4:$Q$503,6,FALSE)="X", "X", ""),"") | G18: =_xlfn.IFNA(IF(VLOOKUP($A18,'DESGLOSE PRESUPUESTO'!$A$4:$Q$503,7,FALSE)="X", "X", ""),"") | H18: =_xlfn.IFNA(IF(VLOOKUP($A18,'DESGLOSE PRESUPUESTO'!$A$4:$Q$503,8,FALSE)="X", "X", ""),"") | I18: =_xlfn.IFNA(IF(VLOOKUP($A18,'DESGLOSE PRESUPUESTO'!$A$4:$Q$503,9,FALSE)="X", "X", ""),"") | J18: =_xlfn.IFNA(IF(VLOOKUP($A18,'DESGLOSE PRESUPUESTO'!$A$4:$Q$503,10,FALSE)="X", "X", ""),"") | K18: =_xlfn.IFNA(IF(VLOOKUP($A18,'DESGLOSE PRESUPUESTO'!$A$4:$Q$503,11,FALSE)="X", "X", ""),"") | L18: =_xlfn.IFNA(IF(VLOOKUP($A18,'DESGLOSE PRESUPUESTO'!$A$4:$Q$503,12,FALSE)="X", "X", ""),"") | M18: =_xlfn.IFNA(IF(VLOOKUP($A18,'DESGLOSE PRESUPUESTO'!$A$4:$Q$503,13,FALSE)="X", "X", ""),"") | N18: =_xlfn.IFNA(IF(VLOOKUP($A18,'DESGLOSE PRESUPUESTO'!$A$4:$Q$503,14,FALSE)="X", "X", ""),"") | O18: =_xlfn.IFNA(IF(VLOOKUP($A18,'DESGLOSE PRESUPUESTO'!$A$4:$Q$503,15,FALSE)="X", "X", ""),"") | P18: =_xlfn.IFNA(IF(VLOOKUP($A18,'DESGLOSE PRESUPUESTO'!$A$4:$Q$503,16,FALSE)="X", "X", ""),"") | Q18: =_xlfn.IFNA(IF(VLOOKUP($A18,'DESGLOSE PRESUPUESTO'!$A$4:$Q$503,17,FALSE)="X", "X", ""),"") | R18: =SUMIF('DESGLOSE PRESUPUESTO'!$A$5:$A$503,$A$5:$A$264,'DESGLOSE PRESUPUESTO'!$S$5:$S$503) -> 0
A19: A15 | B19: =_xlfn.IFNA(VLOOKUP($A19,'DESGLOSE PRESUPUESTO'!$A$4:B$503,2,FALSE),"") | C19: =_xlfn.IFNA(VLOOKUP($A19,'DESGLOSE PRESUPUESTO'!$A$4:C$503,3,FALSE),"") | D19: =_xlfn.IFNA(VLOOKUP($A19,'DESGLOSE PRESUPUESTO'!$A$4:D$503,4,FALSE),"") | E19: =_xlfn.IFNA(VLOOKUP($A19,'DESGLOSE PRESUPUESTO'!$A$4:E$503,5,FALSE),"") | F19: =_xlfn.IFNA(IF(VLOOKUP($A19,'DESGLOSE PRESUPUESTO'!$A$4:$Q$503,6,FALSE)="X", "X", ""),"") | G19: =_xlfn.IFNA(IF(VLOOKUP($A19,'DESGLOSE PRESUPUESTO'!$A$4:$Q$503,7,FALSE)="X", "X", ""),"") | H19: =_xlfn.IFNA(IF(VLOOKUP($A19,'DESGLOSE PRESUPUESTO'!$A$4:$Q$503,8,FALSE)="X", "X", ""),"") | I19: =_xlfn.IFNA(IF(VLOOKUP($A19,'DESGLOSE PRESUPUESTO'!$A$4:$Q$503,9,FALSE)="X", "X", ""),"") | J19: =_xlfn.IFNA(IF(VLOOKUP($A19,'DESGLOSE PRESUPUESTO'!$A$4:$Q$503,10,FALSE)="X", "X", ""),"") | K19: =_xlfn.IFNA(IF(VLOOKUP($A19,'DESGLOSE PRESUPUESTO'!$A$4:$Q$503,11,FALSE)="X", "X", ""),"") | L19: =_xlfn.IFNA(IF(VLOOKUP($A19,'DESGLOSE PRESUPUESTO'!$A$4:$Q$503,12,FALSE)="X", "X", ""),"") | M19: =_xlfn.IFNA(IF(VLOOKUP($A19,'DESGLOSE PRESUPUESTO'!$A$4:$Q$503,13,FALSE)="X", "X", ""),"") | N19: =_xlfn.IFNA(IF(VLOOKUP($A19,'DESGLOSE PRESUPUESTO'!$A$4:$Q$503,14,FALSE)="X", "X", ""),"") | O19: =_xlfn.IFNA(IF(VLOOKUP($A19,'DESGLOSE PRESUPUESTO'!$A$4:$Q$503,15,FALSE)="X", "X", ""),"") | P19: =_xlfn.IFNA(IF(VLOOKUP($A19,'DESGLOSE PRESUPUESTO'!$A$4:$Q$503,16,FALSE)="X", "X", ""),"") | Q19: =_xlfn.IFNA(IF(VLOOKUP($A19,'DESGLOSE PRESUPUESTO'!$A$4:$Q$503,17,FALSE)="X", "X", ""),"") | R19: =SUMIF('DESGLOSE PRESUPUESTO'!$A$5:$A$503,$A$5:$A$264,'DESGLOSE PRESUPUESTO'!$S$5:$S$503) -> 0
A20: A16 | B20: =_xlfn.IFNA(VLOOKUP($A20,'DESGLOSE PRESUPUESTO'!$A$4:B$503,2,FALSE),"") | C20: =_xlfn.IFNA(VLOOKUP($A20,'DESGLOSE PRESUPUESTO'!$A$4:C$503,3,FALSE),"") | D20: =_xlfn.IFNA(VLOOKUP($A20,'DESGLOSE PRESUPUESTO'!$A$4:D$503,4,FALSE),"") | E20: =_xlfn.IFNA(VLOOKUP($A20,'DESGLOSE PRESUPUESTO'!$A$4:E$503,5,FALSE),"") | F20: =_xlfn.IFNA(IF(VLOOKUP($A20,'DESGLOSE PRESUPUESTO'!$A$4:$Q$503,6,FALSE)="X", "X", ""),"") | G20: =_xlfn.IFNA(IF(VLOOKUP($A20,'DESGLOSE PRESUPUESTO'!$A$4:$Q$503,7,FALSE)="X", "X", ""),"") | H20: =_xlfn.IFNA(IF(VLOOKUP($A20,'DESGLOSE PRESUPUESTO'!$A$4:$Q$503,8,FALSE)="X", "X", ""),"") | I20: =_xlfn.IFNA(IF(VLOOKUP($A20,'DESGLOSE PRESUPUESTO'!$A$4:$Q$503,9,FALSE)="X", "X", ""),"") | J20: =_xlfn.IFNA(IF(VLOOKUP($A20,'DESGLOSE PRESUPUESTO'!$A$4:$Q$503,10,FALSE)="X", "X", ""),"") | K20: =_xlfn.IFNA(IF(VLOOKUP($A20,'DESGLOSE PRESUPUESTO'!$A$4:$Q$503,11,FALSE)="X", "X", ""),"") | L20: =_xlfn.IFNA(IF(VLOOKUP($A20,'DESGLOSE PRESUPUESTO'!$A$4:$Q$503,12,FALSE)="X", "X", ""),"") | M20: =_xlfn.IFNA(IF(VLOOKUP($A20,'DESGLOSE PRESUPUESTO'!$A$4:$Q$503,13,FALSE)="X", "X", ""),"") | N20: =_xlfn.IFNA(IF(VLOOKUP($A20,'DESGLOSE PRESUPUESTO'!$A$4:$Q$503,14,FALSE)="X", "X", ""),"") | O20: =_xlfn.IFNA(IF(VLOOKUP($A20,'DESGLOSE PRESUPUESTO'!$A$4:$Q$503,15,FALSE)="X", "X", ""),"") | P20: =_xlfn.IFNA(IF(VLOOKUP($A20,'DESGLOSE PRESUPUESTO'!$A$4:$Q$503,16,FALSE)="X", "X", ""),"") | Q20: =_xlfn.IFNA(IF(VLOOKUP($A20,'DESGLOSE PRESUPUESTO'!$A$4:$Q$503,17,FALSE)="X", "X", ""),"") | R20: =SUMIF('DESGLOSE PRESUPUESTO'!$A$5:$A$503,$A$5:$A$264,'DESGLOSE PRESUPUESTO'!$S$5:$S$503) -> 0
A21: A17 | B21: =_xlfn.IFNA(VLOOKUP($A21,'DESGLOSE PRESUPUESTO'!$A$4:B$503,2,FALSE),"") | C21: =_xlfn.IFNA(VLOOKUP($A21,'DESGLOSE PRESUPUESTO'!$A$4:C$503,3,FALSE),"") | D21: =_xlfn.IFNA(VLOOKUP($A21,'DESGLOSE PRESUPUESTO'!$A$4:D$503,4,FALSE),"") | E21: =_xlfn.IFNA(VLOOKUP($A21,'DESGLOSE PRESUPUESTO'!$A$4:E$503,5,FALSE),"") | F21: =_xlfn.IFNA(IF(VLOOKUP($A21,'DESGLOSE PRESUPUESTO'!$A$4:$Q$503,6,FALSE)="X", "X", ""),"") | G21: =_xlfn.IFNA(IF(VLOOKUP($A21,'DESGLOSE PRESUPUESTO'!$A$4:$Q$503,7,FALSE)="X", "X", ""),"") | H21: =_xlfn.IFNA(IF(VLOOKUP($A21,'DESGLOSE PRESUPUESTO'!$A$4:$Q$503,8,FALSE)="X", "X", ""),"") | I21: =_xlfn.IFNA(IF(VLOOKUP($A21,'DESGLOSE PRESUPUESTO'!$A$4:$Q$503,9,FALSE)="X", "X", ""),"") | J21: =_xlfn.IFNA(IF(VLOOKUP($A21,'DESGLOSE PRESUPUESTO'!$A$4:$Q$503,10,FALSE)="X", "X", ""),"") | K21: =_xlfn.IFNA(IF(VLOOKUP($A21,'DESGLOSE PRESUPUESTO'!$A$4:$Q$503,11,FALSE)="X", "X", ""),"") | L21: =_xlfn.IFNA(IF(VLOOKUP($A21,'DESGLOSE PRESUPUESTO'!$A$4:$Q$503,12,FALSE)="X", "X", ""),"") | M21: =_xlfn.IFNA(IF(VLOOKUP($A21,'DESGLOSE PRESUPUESTO'!$A$4:$Q$503,13,FALSE)="X", "X", ""),"") | N21: =_xlfn.IFNA(IF(VLOOKUP($A21,'DESGLOSE PRESUPUESTO'!$A$4:$Q$503,14,FALSE)="X", "X", ""),"") | O21: =_xlfn.IFNA(IF(VLOOKUP($A21,'DESGLOSE PRESUPUESTO'!$A$4:$Q$503,15,FALSE)="X", "X", ""),"") | P21: =_xlfn.IFNA(IF(VLOOKUP($A21,'DESGLOSE PRESUPUESTO'!$A$4:$Q$503,16,FALSE)="X", "X", ""),"") | Q21: =_xlfn.IFNA(IF(VLOOKUP($A21,'DESGLOSE PRESUPUESTO'!$A$4:$Q$503,17,FALSE)="X", "X", ""),"") | R21: =SUMIF('DESGLOSE PRESUPUESTO'!$A$5:$A$503,$A$5:$A$264,'DESGLOSE PRESUPUESTO'!$S$5:$S$503) -> 0
A22: A18 | B22: =_xlfn.IFNA(VLOOKUP($A22,'DESGLOSE PRESUPUESTO'!$A$4:B$503,2,FALSE),"") | C22: =_xlfn.IFNA(VLOOKUP($A22,'DESGLOSE PRESUPUESTO'!$A$4:C$503,3,FALSE),"") | D22: =_xlfn.IFNA(VLOOKUP($A22,'DESGLOSE PRESUPUESTO'!$A$4:D$503,4,FALSE),"") | E22: =_xlfn.IFNA(VLOOKUP($A22,'DESGLOSE PRESUPUESTO'!$A$4:E$503,5,FALSE),"") | F22: =_xlfn.IFNA(IF(VLOOKUP($A22,'DESGLOSE PRESUPUESTO'!$A$4:$Q$503,6,FALSE)="X", "X", ""),"") | G22: =_xlfn.IFNA(IF(VLOOKUP($A22,'DESGLOSE PRESUPUESTO'!$A$4:$Q$503,7,FALSE)="X", "X", ""),"") | H22: =_xlfn.IFNA(IF(VLOOKUP($A22,'DESGLOSE PRESUPUESTO'!$A$4:$Q$503,8,FALSE)="X", "X", ""),"") | I22: =_xlfn.IFNA(IF(VLOOKUP($A22,'DESGLOSE PRESUPUESTO'!$A$4:$Q$503,9,FALSE)="X", "X", ""),"") | J22: =_xlfn.IFNA(IF(VLOOKUP($A22,'DESGLOSE PRESUPUESTO'!$A$4:$Q$503,10,FALSE)="X", "X", ""),"") | K22: =_xlfn.IFNA(IF(VLOOKUP($A22,'DESGLOSE PRESUPUESTO'!$A$4:$Q$503,11,FALSE)="X", "X", ""),"") | L22: =_xlfn.IFNA(IF(VLOOKUP($A22,'DESGLOSE PRESUPUESTO'!$A$4:$Q$503,12,FALSE)="X", "X", ""),"") | M22: =_xlfn.IFNA(IF(VLOOKUP($A22,'DESGLOSE PRESUPUESTO'!$A$4:$Q$503,13,FALSE)="X", "X", ""),"") | N22: =_xlfn.IFNA(IF(VLOOKUP($A22,'DESGLOSE PRESUPUESTO'!$A$4:$Q$503,14,FALSE)="X", "X", ""),"") | O22: =_xlfn.IFNA(IF(VLOOKUP($A22,'DESGLOSE PRESUPUESTO'!$A$4:$Q$503,15,FALSE)="X", "X", ""),"") | P22: =_xlfn.IFNA(IF(VLOOKUP($A22,'DESGLOSE PRESUPUESTO'!$A$4:$Q$503,16,FALSE)="X", "X", ""),"") | Q22: =_xlfn.IFNA(IF(VLOOKUP($A22,'DESGLOSE PRESUPUESTO'!$A$4:$Q$503,17,FALSE)="X", "X", ""),"") | R22: =SUMIF('DESGLOSE PRESUPUESTO'!$A$5:$A$503,$A$5:$A$264,'DESGLOSE PRESUPUESTO'!$S$5:$S$503) -> 0
... A264: A260 | B264: =_xlfn.IFNA(VLOOKUP($A264,'DESGLOSE PRESUPUESTO'!$A$4:B$503,2,FALSE),"") | C264: =_xlfn.IFNA(VLOOKUP($A264,'DESGLOSE PRESUPUESTO'!$A$4:C$503,3,FALSE),"") | D264: =_xlfn.IFNA(VLOOKUP($A264,'DESGLOSE PRESUPUESTO'!$A$4:D$503,4,FALSE),"") | E264: =_xlfn.IFNA(VLOOKUP($A264,'DESGLOSE PRESUPUESTO'!$A$4:E$503,5,FALSE),"") | F264: =_xlfn.IFNA(IF(VLOOKUP($A264,'DESGLOSE PRESUPUESTO'!$A$4:$Q$503,6,FALSE)="X", "X", ""),"") | G264: =_xlfn.IFNA(IF(VLOOKUP($A264,'DESGLOSE PRESUPUESTO'!$A$4:$Q$503,7,FALSE)="X", "X", ""),"") | H264: =_xlfn.IFNA(IF(VLOOKUP($A264,'DESGLOSE PRESUPUESTO'!$A$4:$Q$503,8,FALSE)="X", "X", ""),"") | I264: =_xlfn.IFNA(IF(VLOOKUP($A264,'DESGLOSE PRESUPUESTO'!$A$4:$Q$503,9,FALSE)="X", "X", ""),"") | J264: =_xlfn.IFNA(IF(VLOOKUP($A264,'DESGLOSE PRESUPUESTO'!$A$4:$Q$503,10,FALSE)="X", "X", ""),"") | K264: =_xlfn.IFNA(IF(VLOOKUP($A264,'DESGLOSE PRESUPUESTO'!$A$4:$Q$503,11,FALSE)="X", "X", ""),"") | L264: =_xlfn.IFNA(IF(VLOOKUP($A264,'DESGLOSE PRESUPUESTO'!$A$4:$Q$503,12,FALSE)="X", "X", ""),"") | M264: =_xlfn.IFNA(IF(VLOOKUP($A264,'DESGLOSE PRESUPUESTO'!$A$4:$Q$503,13,FALSE)="X", "X", ""),"") | N264: =_xlfn.IFNA(IF(VLOOKUP($A264,'DESGLOSE PRESUPUESTO'!$A$4:$Q$503,14,FALSE)="X", "X", ""),"") | O264: =_xlfn.IFNA(IF(VLOOKUP($A264,'DESGLOSE PRESUPUESTO'!$A$4:$Q$503,15,FALSE)="X", "X", ""),"") | P264: =_xlfn.IFNA(IF(VLOOKUP($A264,'DESGLOSE PRESUPUESTO'!$A$4:$Q$503,16,FALSE)="X", "X", ""),"") | Q264: =_xlfn.IFNA(IF(VLOOKUP($A264,'DESGLOSE PRESUPUESTO'!$A$4:$Q$503,17,FALSE)="X", "X", ""),"") | R264: =SUMIF('DESGLOSE PRESUPUESTO'!$A$5:$A$503,$A$5:$A$264,'DESGLOSE PRESUPUESTO'!$S$5:$S$503) -> 0
H265: PRESUPUESTO TOTAL DEL PROGRAMA | R265: =SUM(R5:R264) -> 0
